BEGIN:VCALENDAR
VERSION:2.0
PRODID:-//fairNETZt - ECPv6.12.0//NONSGML v1.0//EN
CALSCALE:GREGORIAN
METHOD:PUBLISH
X-ORIGINAL-URL:https://fairnetzt-loerrach.de
X-WR-CALDESC:Veranstaltungen für fairNETZt
REFRESH-INTERVAL;VALUE=DURATION:PT1H
X-Robots-Tag:noindex
X-PUBLISHED-TTL:PT1H
BEGIN:VTIMEZONE
TZID:Europe/Berlin
BEGIN:DAYLIGHT
TZOFFSETFROM:+0100
TZOFFSETTO:+0200
TZNAME:CEST
DTSTART:20240331T010000
END:DAYLIGHT
BEGIN:STANDARD
TZOFFSETFROM:+0200
TZOFFSETTO:+0100
TZNAME:CET
DTSTART:20241027T010000
END:STANDARD
END:VTIMEZONE
BEGIN:VEVENT
DTSTART;TZID=Europe/Berlin:20240203T150000
DTEND;TZID=Europe/Berlin:20240203T163000
DTSTAMP:20260422T205510
CREATED:20240111T115115Z
LAST-MODIFIED:20240111T115115Z
UID:19812-1706972400-1706977800@fairnetzt-loerrach.de
SUMMARY:Festtagskleiderbörse für Jugendliche und Kinder
DESCRIPTION:Konfirmation\, Kommunion\, Hochzeit oder Abiball – \nauf unserer Festtagskleiderbörse am 3. Februar kannst Du gut erhaltene\, festliche Kleidung in Kinder-\, Jugend- und jungen Erwachsenengrößen kaufen und verkaufen. \nAnmeldung für Verkäufer*innen bis 1.2.24: https://www.christus-kirche.org/konfiboerse \nAbgabe der Kleidungsstücke am 3.2.24 zwischen 13 – 14:30 Uhr im Gemeindehaus der Christuskirche\, Nansenstr. 8\, Lörrach\, ohne Anmeldegebühr. \nVerkauf der Kleidung am 3.2.24 von 15 – 16:30 Uhr auch im Gemeindehaus der Christuskirche. \n30% des Verkauferlöses kommen dem Jugendförderverein der Christuskirche zugute. \nCafé Kirche verkauft leckere Kuchen und Kaffee. \nBei Rückfragen gerne Email an cafe.kirche.loerrach@gmail.com
URL:https://fairnetzt-loerrach.de/veranstaltung/festtagskleiderboerse-fuer-jugendliche-und-kinder/
CATEGORIES:Café Kirche
ATTACH;FMTTYPE=image/jpeg:https://fairnetzt-loerrach.de/wp-content/uploads/2024/01/festtagskleiderborse-2024-voderseite1.jpg
END:VEVENT
END:VCALENDAR