BEGIN:VCALENDAR
VERSION:2.0
PRODID:-//fairNETZt - ECPv6.12.0//NONSGML v1.0//EN
CALSCALE:GREGORIAN
METHOD:PUBLISH
X-ORIGINAL-URL:https://fairnetzt-loerrach.de
X-WR-CALDESC:Veranstaltungen für fairNETZt
REFRESH-INTERVAL;VALUE=DURATION:PT1H
X-Robots-Tag:noindex
X-PUBLISHED-TTL:PT1H
BEGIN:VTIMEZONE
TZID:Europe/Berlin
BEGIN:DAYLIGHT
TZOFFSETFROM:+0100
TZOFFSETTO:+0200
TZNAME:CEST
DTSTART:20250330T010000
END:DAYLIGHT
BEGIN:STANDARD
TZOFFSETFROM:+0200
TZOFFSETTO:+0100
TZNAME:CET
DTSTART:20251026T010000
END:STANDARD
END:VTIMEZONE
BEGIN:VEVENT
DTSTART;TZID=Europe/Berlin:20251112T190000
DTEND;TZID=Europe/Berlin:20251112T210000
DTSTAMP:20260424T160343
CREATED:20251023T091142Z
LAST-MODIFIED:20251027T173914Z
UID:22267-1762974000-1762981200@fairnetzt-loerrach.de
SUMMARY:But Beautiful
DESCRIPTION:Film zur Eröffnung der Nachhaltigkeitstage im Nellie Nashorn. \nDer vielfach ausgezeichnete österreichische Filmemacher Erwin Wagenhofer zeigt Menschen\, die neue Wege beschreiten. Ein Film über Perspektiven ohne Angst\, über Verbundenheit in Musik\, Natur und Gesellschaft.\nDokumentarfilm / Österreich\, Deutschland 2019 / 116 min / FSK: 0 / Regie: Erwin Wagenhofer \n\n\n\n\n\n\nNach seinen streitbaren wie essenziellen Filmen „We Feed The World“\, „Let’s Make Money“ und „Alphabet“\, in denen es um menschliche Haltungen hinter Lebensmittelindustrien\, Finanzsystemen und Bildungsthemen ging\, widmet sich der vielfach ausgezeichnete österreichische Filmemacher Erwin Wagenhofer jetzt dem Positiven. In „But Beautiful“ sucht er das Schöne und Gute und zeigt Menschen\, die neue Wege beschreiten. Entstanden ist ein Film über Perspektiven ohne Angst\, über Verbundenheit in Musik\, Natur und Gesellschaft\, über Menschen mit unterschiedlichen Ideen aber einem großen gemeinsamen Ziel: eine zukunftsfähige Welt. \nFrauen ohne Schulbildung\, die Solaranlagen für Dörfer auf der ganzen Welt bauen. Permakultur-Visionäre auf La Palma\, die Ödland in neues Grün verwandeln. Ein Förster\, der die gesündesten Häuser der Welt entwickelt. Ein geistliches Oberhaupt mit Schalk und essentiellen Botschaften und seine tibetische Schwester mit großem Herz für die Jugend. Ein junges Jazztrio\, ein etablierter Pianist\, eine beseelte kolumbianische Sängerin\, die uns den Klang der Schönheit vermitteln. „But Beautiful“ verbindet sie alle. Alles wird gut? Alles kann gut werden. \nEin Film als Hommage an die Lebendigkeit. Eine poetische Komposition faszinierender Bilder und Klänge\, die etwas auszulösen vermögen. \nFilmreihe in Kooperation mit fairNETZt\, BUND Hochrhein\, Nellie Nashorn und Runder Tisch Klima
URL:https://fairnetzt-loerrach.de/veranstaltung/22267/
LOCATION:free cinema\, Tumringer Strasse 248\, Lörrach\, 79539
CATEGORIES:BUND,fairNETZt,Runder Tisch Klima Lörrach
ATTACH;FMTTYPE=image/jpeg:https://fairnetzt-loerrach.de/wp-content/uploads/2025/10/film-beautiful-2019-1-scaled-1.jpg
END:VEVENT
BEGIN:VEVENT
DTSTART;TZID=Europe/Berlin:20251113T200000
DTEND;TZID=Europe/Berlin:20251113T220000
DTSTAMP:20260424T160343
CREATED:20251023T093011Z
LAST-MODIFIED:20251023T103102Z
UID:22281-1763064000-1763071200@fairnetzt-loerrach.de
SUMMARY:Ozean
DESCRIPTION:Dokumentarfilm von David Attenborough über die lebenswichtige Bedeutung des Ozeans und Möglichkeiten für die Rettung der Meeresbewohner \nDokumentarfilm / Vereinigtes Königreich 2025 / 101 min / FSK 6 / Regie: Toby Nowlan\, Keith Scholey\, Colin Butfield \nOzean ist ein britischer dokumentarischer Kinofilm aus dem Jahr 2025. Er stellt einen Appell zum Schutz der Ozeane dar. Der Filmautor David Attenborough sieht sie als wichtiges Reservoir bei der Rettung des biologischen Gleichgewichts auf der Erde. Der fast 99-Jährige (* 1926) präsentiert den Film selbst vor dem Zuschauer und spricht auch den Kommentar zu den Bildern.
URL:https://fairnetzt-loerrach.de/veranstaltung/ozean/
LOCATION:Cineplex Lörrach\, Am Alten Markt 1 - 2\, Lörrach\, 79539\, Deutschland
CATEGORIES:BUND,fairNETZt,Runder Tisch Klima Lörrach
ATTACH;FMTTYPE=image/jpeg:https://fairnetzt-loerrach.de/wp-content/uploads/2025/10/ozean-mit-david-attenborough.jpg
END:VEVENT
BEGIN:VEVENT
DTSTART;TZID=Europe/Berlin:20251116T110000
DTEND;TZID=Europe/Berlin:20251116T123000
DTSTAMP:20260424T160343
CREATED:20251023T095055Z
LAST-MODIFIED:20251027T173831Z
UID:22287-1763290800-1763296200@fairnetzt-loerrach.de
SUMMARY:Trop chaud
DESCRIPTION:Filmmatinee & Gespräch mit KlimaSeniorin Rosmarie Wydler-Wälti \nDie Klage der Schweizer KlimaSeniorinnen am Europäischen Gerichtshof für Menschenrechte gegen die Schweizer Regierung mündet nach langem Kampf in ein weltweit beachtetes Urteil: Klimaschutz ist ein Menschenrecht! \nGerichtskrimi / Schweiz 2025 / 77 min / FSK 0 / Regie: Benjamin Weiss \nDie Schweizer KlimaSeniorinnen kämpfen an vorderster Front. Statt sich zur Ruhe zu setzen\, wollen sie etwas gegen die immer häufigeren Hitzewellen tun. Mutig nehmen sie es gegen ihr eigenes Land auf und klagen am Europäischen Gerichtshof für Menschenrechte (EGMR) gegen die Schweizer Regierung\, sie schütze ihre Gesundheit zu wenig. Ein scheinbar aussichtsloses Unterfangen\, das nach achtjährigem Kampf in ein spektakuläres\, weltweit beachtetes Urteil mündet. Am 9. April 2024 entscheidet der EGMR\, dass Klimaschutz ein Menschenrecht ist. Ein Triumph für die Schweizer KlimaSeniorinnen. \n\n„Trop Chaud“ blickt hinter die Kulissen des Kampfs gegen den Klimawandel. Die Aktivistinnen und ihr Anwaltsteam\, juristische und wissenschaftliche Wegbegleiter:innen sowie ein NGO-Campaigner sprechen über ihre Beweggründe und es werden grundlegende Fragen zu Demokratie\, Rechtsstaatlichkeit und der globalen Klimagerechtigkeit erörtert. \nFilmreihe in Kooperation mit fairNETZt\, BUND Hochrhein\, Nellie Nashorn und Runder Tisch Klima
URL:https://fairnetzt-loerrach.de/veranstaltung/trop-chaud/
LOCATION:free cinema\, Tumringer Strasse 248\, Lörrach\, 79539
CATEGORIES:BUND,fairNETZt,Runder Tisch Klima Lörrach
ATTACH;FMTTYPE=image/png:https://fairnetzt-loerrach.de/wp-content/uploads/2025/10/trop-chaud-poster-722x1024-1.png
ORGANIZER;CN="fairNETZt":MAILTO:info@fairnetzt-loerrach.de
END:VEVENT
BEGIN:VEVENT
DTSTART;TZID=Europe/Berlin:20251119T190000
DTEND;TZID=Europe/Berlin:20251119T210000
DTSTAMP:20260424T160343
CREATED:20251023T095958Z
LAST-MODIFIED:20251027T173734Z
UID:22293-1763578800-1763586000@fairnetzt-loerrach.de
SUMMARY:Im Land der Wölfe
DESCRIPTION:Film & Gespräch \n100 Jahre nach ihrer Ausrottung kehren die Wölfe nach Deutschland zurück. Viele Menschen haben eine tiefsitzende Angst vor ihnen. Die Landnahme der Wölfe fordert uns heraus.\nDokumentarfilm / Deutschland 2023 / 102 min / FSK 12 / Regie: Ralf Bücheler   \n100 Jahre nach ihrer Ausrottung kehren die Wölfe nach Deutschland zurück\, in ein Industrieland voller Menschen. Sie kommen wieder\, weil wir sie lassen. Das haben wir demokratisch entschieden. Ihre Rückkehr ist Ausdruck des Wandels in unserem Umgang mit der Natur. Wir sind bereit\, die Herrschaft über die Erde wieder zu teilen\, auch weil wir einsehen: Als Alleinherrschende gehen wir unter. „Im Land der Wölfe“ erzählt vom Leben unserer neuen Nachbarn. Die Tiere leben nicht in einer verwunschenen Wildnis in Naturschutzgebieten\, sondern mitten unter uns. Sie finden Nischen in der Kulturlandschaft. Sie ziehen sich in die Wüstungen alter Tagebaue zurück\, nutzen unsere Wege\, überqueren Autobahnen und laufen durch Dörfer. Ihre Welpen spielen mit unseren Abfällen und trinken aus den Furchen\, die Maschinen im Waldboden hinterlassen. Manchmal fressen Wölfe Nutztiere. Und viele Menschen haben eine tiefsitzende Angst vor ihnen. Die Landnahme der Wölfe fordert uns heraus – Akteure aus Verwaltung\, Wissenschaft\, Landwirtschaft\, Politik\, Naturschutz und der Bevölkerung diskutieren über die Welt der Wölfe in Deutschland. \nIm Anschluss Gespräch mit FachreferentIn vom Wildtierinstitut der Forstlichen Versuchsanstalt BW\, Freiburg / Moderation Gisela Klein \nFilmreihe in Kooperation mit fairNETZt\, BUND Hochrhein\, Nellie Nashorn und Runder Tisch Klima
URL:https://fairnetzt-loerrach.de/veranstaltung/im-land-der-woelfe/
LOCATION:free cinema\, Tumringer Strasse 248\, Lörrach\, 79539
CATEGORIES:BUND,fairNETZt,Runder Tisch Klima Lörrach
ATTACH;FMTTYPE=image/jpeg:https://fairnetzt-loerrach.de/wp-content/uploads/2025/10/ildw-plakat-a1-web-neue-logos-halb2.jpg
ORGANIZER;CN="fairNETZt":MAILTO:info@fairnetzt-loerrach.de
END:VEVENT
END:VCALENDAR