BEGIN:VCALENDAR
VERSION:2.0
PRODID:-//fairNETZt - ECPv6.12.0//NONSGML v1.0//EN
CALSCALE:GREGORIAN
METHOD:PUBLISH
X-ORIGINAL-URL:https://fairnetzt-loerrach.de
X-WR-CALDESC:Veranstaltungen für fairNETZt
REFRESH-INTERVAL;VALUE=DURATION:PT1H
X-Robots-Tag:noindex
X-PUBLISHED-TTL:PT1H
BEGIN:VTIMEZONE
TZID:Europe/Berlin
BEGIN:DAYLIGHT
TZOFFSETFROM:+0100
TZOFFSETTO:+0200
TZNAME:CEST
DTSTART:20250330T010000
END:DAYLIGHT
BEGIN:STANDARD
TZOFFSETFROM:+0200
TZOFFSETTO:+0100
TZNAME:CET
DTSTART:20251026T010000
END:STANDARD
END:VTIMEZONE
BEGIN:VEVENT
DTSTART;TZID=Europe/Berlin:20251022T190000
DTEND;TZID=Europe/Berlin:20251022T220000
DTSTAMP:20260424T142932
CREATED:20250922T101931Z
LAST-MODIFIED:20250922T101931Z
UID:22132-1761159600-1761170400@fairnetzt-loerrach.de
SUMMARY:AnsprechBAR
DESCRIPTION:Café Kirche probiert ein neues Format aus! \nFeierabend feiern in unserer AnsprechBAR – mit Cocktails und anderen Leckereien.
URL:https://fairnetzt-loerrach.de/veranstaltung/ansprechbar/
LOCATION:Café Kirche\, Alte Feuerwache\, Burghof 2\, Lörrach\, 79539
CATEGORIES:Café Kirche
ATTACH;FMTTYPE=image/jpeg:https://fairnetzt-loerrach.de/wp-content/uploads/2025/09/flyeransprechbar.jpeg
END:VEVENT
END:VCALENDAR