BEGIN:VCALENDAR
VERSION:2.0
PRODID:-//fairNETZt - ECPv6.12.0//NONSGML v1.0//EN
CALSCALE:GREGORIAN
METHOD:PUBLISH
X-WR-CALNAME:fairNETZt
X-ORIGINAL-URL:https://fairnetzt-loerrach.de
X-WR-CALDESC:Veranstaltungen für fairNETZt
REFRESH-INTERVAL;VALUE=DURATION:PT1H
X-Robots-Tag:noindex
X-PUBLISHED-TTL:PT1H
BEGIN:VTIMEZONE
TZID:Europe/Berlin
BEGIN:DAYLIGHT
TZOFFSETFROM:+0100
TZOFFSETTO:+0200
TZNAME:CEST
DTSTART:20230326T010000
END:DAYLIGHT
BEGIN:STANDARD
TZOFFSETFROM:+0200
TZOFFSETTO:+0100
TZNAME:CET
DTSTART:20231029T010000
END:STANDARD
END:VTIMEZONE
BEGIN:VEVENT
DTSTART;TZID=Europe/Berlin:20230614T193000
DTEND;TZID=Europe/Berlin:20230614T213000
DTSTAMP:20260423T112549
CREATED:20230603T222139Z
LAST-MODIFIED:20230603T222139Z
UID:19053-1686771000-1686778200@fairnetzt-loerrach.de
SUMMARY:Blühende Heuwiesen
DESCRIPTION:Wenn es um den Schutz der Artenvielfalt geht\, hat die Landwirtschaft ein schlechtes Image. Dabei konnten artenreiche Wiesen\, die so enorm wichtig für Schmetterlinge\, Wildbienen und Heuschrecken sind\, erst durch die Landwirtschaft entstehen. Vor hundert Jahren mähten Bäuer*innen zwei Mal im Jahr von Hand ihre Wiesen\, um daraus Heu für Tierfutter zu gewinnen. Die Natur hat sich im Laufe der Zeit daran angepasst und es sind neue Lebensräume mit bis zu sechzig Kräuter- und Gräserarten entstanden. \nOhne den menschlichen Eingriff würden diese Wiesen verbuschen. Die Kräuter und Gräser würden durch Gehölze und Büsche verdrängt. Schließlich würde wieder Wald entstehen. Auch heute sind solche Wiesen typischer Bestandteil unserer Kulturlandschaft. Diese Heuwiesen bieten Tausenden Tierarten einen Lebensraum\, darunter vielen gefährdeten Insekten\, wie der Grauschuppigen Sandbiene\, dem Braunen Feuerfalter oder der Goldenen Acht. \nDer BUND Baden-Württemberg sucht durch Fachdialoge mit Landwirt*innen\, Bürger*innen\, Kommunen\, Landkreisen und Landesregierung nach gemeinsamen Lösungen\, um die artenreichen Heuwiesen zu erhalten. Almut Sattelberger präsentiert uns das Projekt in der Stadtbibliothek Lörrach am 14. Juni um 19:30 Uhr. Eintritt frei. \nWeitere Infos zum Projekt finden Sie hier.
URL:https://fairnetzt-loerrach.de/veranstaltung/bluehende-heuwiesen/
LOCATION:Stadtbibliothek Lörrach\, Basler Str. 152\, Lörrach\, 79539
CATEGORIES:BUND
ATTACH;FMTTYPE=image/png:https://fairnetzt-loerrach.de/wp-content/uploads/2023/06/flyer-deckblatt-bluehende-heuwiesen-bundbw.png
END:VEVENT
END:VCALENDAR