BEGIN:VCALENDAR
VERSION:2.0
PRODID:-//fairNETZt - ECPv6.12.0//NONSGML v1.0//EN
CALSCALE:GREGORIAN
METHOD:PUBLISH
X-ORIGINAL-URL:https://fairnetzt-loerrach.de
X-WR-CALDESC:Veranstaltungen für fairNETZt
REFRESH-INTERVAL;VALUE=DURATION:PT1H
X-Robots-Tag:noindex
X-PUBLISHED-TTL:PT1H
BEGIN:VTIMEZONE
TZID:Europe/Berlin
BEGIN:DAYLIGHT
TZOFFSETFROM:+0100
TZOFFSETTO:+0200
TZNAME:CEST
DTSTART:20250330T010000
END:DAYLIGHT
BEGIN:STANDARD
TZOFFSETFROM:+0200
TZOFFSETTO:+0100
TZNAME:CET
DTSTART:20251026T010000
END:STANDARD
END:VTIMEZONE
BEGIN:VEVENT
DTSTART;TZID=Europe/Berlin:20250203T163000
DTEND;TZID=Europe/Berlin:20250203T180000
DTSTAMP:20260421T064006
CREATED:20250127T103605Z
LAST-MODIFIED:20250127T103723Z
UID:21494-1738600200-1738605600@fairnetzt-loerrach.de
SUMMARY:Planungstreffen zum Tag der Demokratie 2025
DESCRIPTION:Der Fachbereich Kultur und Tourismus der Stadt Lörrach lädt herzliche zum Netzwerktreffen Demokratiebildung ein. \nBei diesem Treffen sollen erste Ideen für den Tag der Demokratie am 21. September 2025 gesammelt und frühzeitig in die Planung dafür gegangen werden. Der Fachbereich ist gespannt auf Eure Ideen und freut sich auf die Zusammenarbeit.
URL:https://fairnetzt-loerrach.de/veranstaltung/planungstreffen-zum-tag-der-demokratie-2025/
ATTACH;FMTTYPE=image/jpeg:https://fairnetzt-loerrach.de/wp-content/uploads/2025/01/fenster-fur-die-demokratie.jpg
END:VEVENT
BEGIN:VEVENT
DTSTART;TZID=Europe/Berlin:20250205T193000
DTEND;TZID=Europe/Berlin:20250205T213000
DTSTAMP:20260421T064006
CREATED:20250127T101204Z
LAST-MODIFIED:20250127T104211Z
UID:21478-1738783800-1738791000@fairnetzt-loerrach.de
SUMMARY:Podiumsdiskussion zur Bundestagswahl 2025
DESCRIPTION:mit den Kanditat*innen von CDU\, SPD\, FDP\, Grüne\, AfD und Linke
URL:https://fairnetzt-loerrach.de/veranstaltung/podiumsdiskussion-zur-bundestagswahl-2025/
LOCATION:Stadtmission Lörrach\, Wiesentalstr. 27\, Lörrach\, 79539\, Germany
ATTACH;FMTTYPE=image/png:https://fairnetzt-loerrach.de/wp-content/uploads/2025/01/btw-2025-ev-allianz-podiumsdiskussion-klein.png
END:VEVENT
BEGIN:VEVENT
DTSTART;TZID=Europe/Berlin:20250206T200000
DTEND;TZID=Europe/Berlin:20250206T220000
DTSTAMP:20260421T064006
CREATED:20250107T193915Z
LAST-MODIFIED:20250107T193930Z
UID:21381-1738872000-1738879200@fairnetzt-loerrach.de
SUMMARY:Französische Filmreihe
DESCRIPTION:Francophile aufgepasst! Du schaust französische Filme lieber in Original? Wir auch!! Wir freuen uns\, die neue französische Filmreihe in OmU ankündigen zu dürfen: jeder erste Donnerstag im Monat im Free Cinema um 20 Uhr für 5 €. A bientôt!\n\nDiesen Monat: La passion de Dodin Bouffant\n\n\n\n\n\n\n\n\n\n\n\n\nFSK 6 / 136 Min / Beginn: 20.00 Uhr / OmU /Free Cinema / Eintritt: 5 € nur an der AK \nGanze 20 Jahre kocht Eugénie (Juliette Binoche) bereits für den berühmten Gastronomen Dodin Bouffant (Benoît Magimel). Nach dieser langen Zeit ist aus ihrer anfänglich rein geschäftlichen Beziehung mehr geworden. Aus der gemeinsamen Liebe für gutes Essen entstand eine warmherzige Liebe füreinander. Dodin möchte Eugénie schließlich zu seiner Frau machen. Doch sie denkt erstmal gar nicht ans Heiraten und möchte sich ihre Freiheit bewahren. Also heckt Dodin einen verführerischen Plan aus\, für die er sich selbst an den Herd stellen muss… Adaption des Romans „La Vie et la passion de Dodin-Bouffant\, gourmet“ von Marcel Rouff. \n\n\n\n\n\n\n\n\n\n\n\nhttps://www.youtube.com/watch?v=kYkmEULfegA
URL:https://fairnetzt-loerrach.de/veranstaltung/franzoesische-filmreihe-2/
LOCATION:free cinema\, Tumringer Strasse 248\, Lörrach\, 79539
ATTACH;FMTTYPE=image/jpeg:https://fairnetzt-loerrach.de/wp-content/uploads/2025/01/v23pas169sionde01.jpg
ORGANIZER;CN="free cinema":MAILTO:info@freecinema.de
END:VEVENT
BEGIN:VEVENT
DTSTART;TZID=Europe/Berlin:20250214T193000
DTEND;TZID=Europe/Berlin:20250214T213000
DTSTAMP:20260421T064006
CREATED:20250127T093525Z
LAST-MODIFIED:20250127T104751Z
UID:21456-1739561400-1739568600@fairnetzt-loerrach.de
SUMMARY:Aufschrei der Jugend
DESCRIPTION:Anläßlich des bundesweiten Klimastreiks am 14. Februar und den Veranstaltungen mit Luisa Neubauer am 25. Februar im Werkraum Schöpflin zeigt fairNETZt in Kooperation mit dem Runden Tisch Klima und dem Werkraum Schöpflin \n»Aufschrei der Jugend – Fridays for Future Inside«\nDokumentationsfilm (D 2021 | 97 Min. | ab 6) \nAußergewöhnlich intimes Porträt junger Klimaaktivist*innen: In ihrer Doku lässt uns Kathrin Pitterling ganz nah ran an die jungen Aktivist*innen\, darunter auch bekannte Gesichter wie Luisa Neubauer und Clara Mayer. Trotz existenzieller Einschränkungen durch die Corona-Pandemie kämpfen die Kinder und Jugendlichen unerschrocken weiter für unser aller Zukunft. \nFreier Eintritt für Schüler*innen und Auszubildende
URL:https://fairnetzt-loerrach.de/veranstaltung/aufschrei-der-jugend/
CATEGORIES:fairNETZt
ATTACH;FMTTYPE=image/jpeg:https://fairnetzt-loerrach.de/wp-content/uploads/2025/01/aufschrei-der-jugend.jpg
END:VEVENT
BEGIN:VEVENT
DTSTART;TZID=Europe/Berlin:20250215T115500
DTEND;TZID=Europe/Berlin:20250215T130000
DTSTAMP:20260421T064006
CREATED:20250127T095246Z
LAST-MODIFIED:20250127T104406Z
UID:21464-1739620500-1739624400@fairnetzt-loerrach.de
SUMMARY:Kundgebung "Demokratie verteidigen - demokratische Parteien wählen"
DESCRIPTION:Das Bündnis 5 vor 12 lädt ein zu Kundgebung\, Musik und Kreativprogramm \nKeine Stimme für Rechtsextremismus und Populismus. \n„Solidarität macht Glücklich“ – Ansteck-Buttons und Schilder für Autos und Fahrräder sind jetzt fertig und können zwischen 9 – 16 Uhr täglich im Büro des Werkraum Schöpflin – gerne gegen eine kleine Spende – abgeholt werden.
URL:https://fairnetzt-loerrach.de/veranstaltung/kundgebung-demokratie-verteidigen-demokratische-parteien-waehlen/
LOCATION:Senser Platz\, Senser Platz\, Lörrach
ATTACH;FMTTYPE=image/png:https://fairnetzt-loerrach.de/wp-content/uploads/2025/01/kundgebung-15-2-25-sharpic.png
ORGANIZER;CN="B%C3%BCndnis 5 vor 12":MAILTO:buendnis-5vor12@posteo.de
END:VEVENT
BEGIN:VEVENT
DTSTART;TZID=Europe/Berlin:20250219T200000
DTEND;TZID=Europe/Berlin:20250219T220000
DTSTAMP:20260421T064006
CREATED:20250124T113008Z
LAST-MODIFIED:20250124T113008Z
UID:21439-1739995200-1740002400@fairnetzt-loerrach.de
SUMMARY:Orga-Treffen Foodsharing
DESCRIPTION:Das Orga-Meeting des Foodsharing-Bezirks Lörrach ist für alle offen.\nDu willst mitentscheiden\, Pläne schmieden\, Ideen austauschen oder Probleme anpacken? Dann komm vorbei!\nFür alle Betreibsverantwortlchen (Biebs) ist ein Besuch im Quartal Pflicht. Bitte sprecht uns an\, wenn ihr nur online teilnehmen könnt. Wir versuchen dann\, jemanden mit Laptop zu organisieren\, der das Meeting teilt.
URL:https://fairnetzt-loerrach.de/veranstaltung/orga-treffen-foodsharing/
LOCATION:Nellie Nashorn\, Tumringer Straße 248\, Lörrach\, Baden-Württemberg\, 79539\, Deutschland
ATTACH;FMTTYPE=image/jpeg:https://fairnetzt-loerrach.de/wp-content/uploads/2024/02/foodsharing-logo-nl.jpg
END:VEVENT
BEGIN:VEVENT
DTSTART;TZID=Europe/Berlin:20250224T170000
DTEND;TZID=Europe/Berlin:20250224T183000
DTSTAMP:20260421T064006
CREATED:20250128T074715Z
LAST-MODIFIED:20250128T074715Z
UID:21516-1740416400-1740421800@fairnetzt-loerrach.de
SUMMARY:Kundgebung mit Luisa Neubauer
DESCRIPTION:Die bekannteste Stimme der deutschen Klimaschutzbewegung und unaufhaltsame Kämpferin für die Gesundheit des Planeten Erde ist Luisa Neubauer. Sie argumentiert scharf und überzeugend\, stellt sich weltweit Klimawandelleugner*innen\, hat ausdauernd mit Fridays for Future gestreikt\, schreibt Bücher\, hält flammende Reden auf Demonstrationen – und kommt nun nach Brombach! \nWer Luisa Neubauer einmal live hören möchte: Hier ist die Gelegenheit! Kommt alle am 24. Februar\, um 17 Uhr – einen Tag nach der Bundestagswahl – nach Brombach auf das Fabric-Gelände! \nFoto © Lena Faye
URL:https://fairnetzt-loerrach.de/veranstaltung/kundgebung-mit-luisa-neubauer/
LOCATION:FABRIC-Gelände\, Franz-Ehret-Straße\, Lörrach-Brombach\, Deutschland
ATTACH;FMTTYPE=image/jpeg:https://fairnetzt-loerrach.de/wp-content/uploads/2025/01/csm-web-luisa-neubauer-2-credit-lena-faye-3fb28ae6f7.jpg
ORGANIZER;CN="Werkraum Sch%C3%B6pflin":MAILTO:info@werkraum-schoepflin.de
END:VEVENT
BEGIN:VEVENT
DTSTART;TZID=Europe/Berlin:20250224T200000
DTEND;TZID=Europe/Berlin:20250224T200000
DTSTAMP:20260421T064006
CREATED:20241109T093409Z
LAST-MODIFIED:20241109T095006Z
UID:21223-1740427200-1740427200@fairnetzt-loerrach.de
SUMMARY:Online-Infoabend Solidarische Landwirtschaft 3Land
DESCRIPTION:Liebe Gemüseliebhaber*innen\nWir laden Euch herzlich zum nächsten Online-Infoabend der Solawi 3Land ein. \nMontag\, 24. Februar 2025\, 20 Uhr\nHier informieren wir darüber\, was hinter dem Begriff Solidarische Landwirtschaft oder kurz „Solawi“ steckt und stellen unsere Solawi vor. Außerdem berichten wir von unseren Gemeinschafts-Events wie dem Fermentier-Workshop und dem Brotbacktag. \n  \nDer Infoabend findet auf Zoom statt. Für die Teilnahme schreibt uns bitte eine kurze Mail an info@solawi3land.de um den Link zum Infoabend zu erhalten. \n  \nWir freuen uns auf Euch! \nDas Solawi 3Land Kernteam \nwww.solawi3land.de \n 
URL:https://fairnetzt-loerrach.de/veranstaltung/solawi-3land-infoveranstaltung2025_02_24/
LOCATION:online
CATEGORIES:Solawi 3Land
ATTACH;FMTTYPE=image/png:https://fairnetzt-loerrach.de/wp-content/uploads/2022/11/logo-solawi-rund.png
END:VEVENT
BEGIN:VEVENT
DTSTART;TZID=Europe/Berlin:20250226T200000
DTEND;TZID=Europe/Berlin:20250226T210000
DTSTAMP:20260421T064006
CREATED:20250113T142055Z
LAST-MODIFIED:20250113T142055Z
UID:21399-1740600000-1740603600@fairnetzt-loerrach.de
SUMMARY:Foodsharing Einführungstreffen
DESCRIPTION:Du willst mitmachen und Lebensmittel vor der Tonne zu retten?\n Du hast jede Menge Fragen zu foodsharing?\n Du bist schon dabei und willst Dich vollständig bei uns registieren lassen? \n\nDann komm zu unserem Einführungstreffen! Einer unserer Botschafter und Botschafterinnen erklärt Dir alles\, was Du wissen musst. Nebenbei lernst Du andere Aktive kennen. Je nach Grösse der Gruppe findet die Veranstaltung in der Nellies-Kneipe in Lörrach oder in einem der Besprechungsräume im 1. OG statt. Wir freuen uns auf Dich! Über Interessierte aus dem Wiesental ganz besonders! \n\n\n 
URL:https://fairnetzt-loerrach.de/veranstaltung/foodsharing-treffen-september-2023-2-2-2-2-2-2-2-2-2/
LOCATION:Nellie Nashorn\, Tumringer Straße 248\, Lörrach\, Baden-Württemberg\, 79539\, Deutschland
CATEGORIES:Foodsharing
ATTACH;FMTTYPE=image/jpeg:https://fairnetzt-loerrach.de/wp-content/uploads/2015/08/foodsharing-logo-768x724-2.jpg
END:VEVENT
END:VCALENDAR