BEGIN:VCALENDAR
VERSION:2.0
PRODID:-//fairNETZt - ECPv6.12.0//NONSGML v1.0//EN
CALSCALE:GREGORIAN
METHOD:PUBLISH
X-ORIGINAL-URL:https://fairnetzt-loerrach.de
X-WR-CALDESC:Veranstaltungen für fairNETZt
REFRESH-INTERVAL;VALUE=DURATION:PT1H
X-Robots-Tag:noindex
X-PUBLISHED-TTL:PT1H
BEGIN:VTIMEZONE
TZID:Europe/Berlin
BEGIN:DAYLIGHT
TZOFFSETFROM:+0100
TZOFFSETTO:+0200
TZNAME:CEST
DTSTART:20250330T010000
END:DAYLIGHT
BEGIN:STANDARD
TZOFFSETFROM:+0200
TZOFFSETTO:+0100
TZNAME:CET
DTSTART:20251026T010000
END:STANDARD
END:VTIMEZONE
BEGIN:VEVENT
DTSTART;TZID=Europe/Berlin:20250109T200000
DTEND;TZID=Europe/Berlin:20250109T220000
DTSTAMP:20260419T171221
CREATED:20241009T152008Z
LAST-MODIFIED:20250107T193432Z
UID:21113-1736452800-1736460000@fairnetzt-loerrach.de
SUMMARY:Französische Filmreihe
DESCRIPTION:Francophile aufgepasst! Du schaust französische Filme lieber in Original? Wir auch!! Wir freuen uns\, die neue französische Filmreihe in OmU ankündigen zu dürfen: jeder erste Donnerstag im Monat im Free Cinema um 20 Uhr für 5 €. A bientôt!\n\nDiesen Monat: JULIETTE AU PRINTEMPS\n\n\n\n\n\n\n  \nOmU / Komödie\, Drama / F 2024 / Regie: Blandine Lenoir / 96 Min / FSK 12 / Beginn: 20.00 Uhr / Free Cinema / Eintritt: 5 € nur an der AK \nDie 35 Jahre alte Kinderbuchillustratorin Juliette (Izïa Higelin) kehrt aus Paris an den Ort zurück\, an dem sie aufgewachsen ist\, um zwei Wochen mit ihren Verwandten zu verbringen: Ein etwas launischer Vater (Jean-Pierre Darroussin)\, eine Schwester (Sophie Guillemin)\, die mit ihren Kindern\, ihrem Job\, ihrem Mann und ihrem Liebhaber andere Sorgen hat\, eine abweisende Mutter (Noémie Lvovsky) und eine Großmutter (Liliane Rovère)\, die den Kopf verliert. Vergrabene Erinnerungen\, ungesagte Dinge und Familiengeheimnisse kommen an die Oberfläche und der zurückhaltende Pollux (Salif Cissé) tritt in ihr Leben… \n\n\n\n\n\n\n\nhttps://youtu.be/32jGUJLQeZg
URL:https://fairnetzt-loerrach.de/veranstaltung/franzoesische-filmreihe/
LOCATION:free cinema\, Tumringer Strasse 248\, Lörrach\, 79539
ATTACH;FMTTYPE=image/jpeg:https://fairnetzt-loerrach.de/wp-content/uploads/2024/10/juliette-au-printemps-3.jpg
ORGANIZER;CN="free cinema":MAILTO:info@freecinema.de
END:VEVENT
BEGIN:VEVENT
DTSTART;TZID=Europe/Berlin:20250117T190000
DTEND;TZID=Europe/Berlin:20250117T220000
DTSTAMP:20260419T171221
CREATED:20241106T165754Z
LAST-MODIFIED:20241106T215035Z
UID:21186-1737140400-1737151200@fairnetzt-loerrach.de
SUMMARY:Goldzwanziger - Konzertlesung mit Christina Brudereck und Ben Seipel
DESCRIPTION:Das neue Programm von 2Flügel. Für die 20er Jahre unseres Jahrhunderts.\n2Flügel fragt\, wie diese Zeit golden werden kann.\nWas ihr den Glanz verleiht. Was unvergänglich ist und kostbar.\nDas Duo bringt die Stimmung der 1920er Jahre auf die Bühne – mit Augenzwinkern\, Gänsehaut und Schwung für unsere Zeit. \n»Ein Flügel\, zwei Mikros. Mehr brauchen die beiden nicht\, und der Abend ist ein Erlebnis.« \n»Ein dichtes und musikalisches Erlebnis. Für alle Sinne.« (Deutschlandfunk) \nhier kann reingehört werden: Goldzwanziger \nKartenvorverkauf ab sofort (Achtung: keine Abendkasse): \nCafé Kirche\, zwischen Stadtkirche und Burghof \nSchüttwerk\, Tumringer Str. 221 \nBella im Hof\, Tumringer Str. 223
URL:https://fairnetzt-loerrach.de/veranstaltung/goldzwanziger-konzertlesung-mit-christina-brudereck-und-ben-seipel/
LOCATION:Café Kirche\, Alte Feuerwache\, Burghof 2\, Lörrach\, 79539
CATEGORIES:Café Kirche
ATTACH;FMTTYPE=image/jpeg:https://fairnetzt-loerrach.de/wp-content/uploads/2024/11/brudereck-flyer-12-seiten-1.jpg
END:VEVENT
BEGIN:VEVENT
DTSTART;TZID=Europe/Berlin:20250131T200000
DTEND;TZID=Europe/Berlin:20250131T210000
DTSTAMP:20260419T171221
CREATED:20250113T141905Z
LAST-MODIFIED:20250113T141905Z
UID:21395-1738353600-1738357200@fairnetzt-loerrach.de
SUMMARY:Foodsharing Einführungstreffen
DESCRIPTION:Du willst mitmachen und Lebensmittel vor der Tonne zu retten?\n Du hast jede Menge Fragen zu foodsharing?\n Du bist schon dabei und willst Dich vollständig bei uns registieren lassen? \n\nDann komm zu unserem Einführungstreffen! Einer unserer Botschafter und Botschafterinnen erklärt Dir alles\, was Du wissen musst. Nebenbei lernst Du andere Aktive kennen. Je nach Grösse der Gruppe findet die Veranstaltung in der Nellies-Kneipe in Lörrach oder in einem der Besprechungsräume im 1. OG statt. Wir freuen uns auf Dich! Über Interessierte aus dem Wiesental ganz besonders! \n\n\n 
URL:https://fairnetzt-loerrach.de/veranstaltung/foodsharing-treffen-september-2023-2-2-2-2-2-2-2-2/
LOCATION:Nellie Nashorn\, Tumringer Straße 248\, Lörrach\, Baden-Württemberg\, 79539\, Deutschland
CATEGORIES:Foodsharing
ATTACH;FMTTYPE=image/jpeg:https://fairnetzt-loerrach.de/wp-content/uploads/2015/08/foodsharing-logo-768x724-2.jpg
END:VEVENT
END:VCALENDAR