BEGIN:VCALENDAR
VERSION:2.0
PRODID:-//fairNETZt - ECPv6.12.0//NONSGML v1.0//EN
CALSCALE:GREGORIAN
METHOD:PUBLISH
X-ORIGINAL-URL:https://fairnetzt-loerrach.de
X-WR-CALDESC:Veranstaltungen für fairNETZt
REFRESH-INTERVAL;VALUE=DURATION:PT1H
X-Robots-Tag:noindex
X-PUBLISHED-TTL:PT1H
BEGIN:VTIMEZONE
TZID:Europe/Berlin
BEGIN:DAYLIGHT
TZOFFSETFROM:+0100
TZOFFSETTO:+0200
TZNAME:CEST
DTSTART:20260329T010000
END:DAYLIGHT
BEGIN:STANDARD
TZOFFSETFROM:+0200
TZOFFSETTO:+0100
TZNAME:CET
DTSTART:20261025T010000
END:STANDARD
END:VTIMEZONE
BEGIN:VEVENT
DTSTART;TZID=Europe/Berlin:20260217T080000
DTEND;TZID=Europe/Berlin:20260430T170000
DTSTAMP:20260422T225538
CREATED:20260217T211229Z
LAST-MODIFIED:20260217T211229Z
UID:22544-1771315200-1777568400@fairnetzt-loerrach.de
SUMMARY:Café surprise - eine Tasse Solidarität
DESCRIPTION:Café Kirche hat sich der Schweizer Initiative Café surprise angeschlossen. \nWer Geld hat\, zahlt einen Kaffee für 2\,50 € extra\, Café Kirche spendiert ihn an jemanden der oder die gerade kein Geld hat. \nGerne weitersagen – besonders an Menschen\, die gerade knapp bei Kasse sind\, sich aber mal über einen Kaffee\, Cappuccino\, Tee\, ein kaltes Getränk oder einen Kuchen freuen. Alles Dinge\, die im Café Kirche 2\,50 € kosten. Ein Lächeln\, ein nettes Gespräch und einen bequemen Stuhl gibt es so oder so gratis dazu.
URL:https://fairnetzt-loerrach.de/veranstaltung/cafe-surprise-eine-tasse-solidaritaet/
LOCATION:Café Kirche\, Alte Feuerwache\, Burghof 2\, Lörrach\, 79539
CATEGORIES:Café Kirche
ATTACH;FMTTYPE=image/png:https://fairnetzt-loerrach.de/wp-content/uploads/2026/02/20250911-cafesurprise-inserat-hoch-210x280-1.png
END:VEVENT
BEGIN:VEVENT
DTSTART;TZID=Europe/Berlin:20260424T150000
DTEND;TZID=Europe/Berlin:20260424T163000
DTSTAMP:20260422T225538
CREATED:20260414T204011Z
LAST-MODIFIED:20260414T204011Z
UID:22823-1777042800-1777048200@fairnetzt-loerrach.de
SUMMARY:Bundesweite Aktion von Fridays for future
DESCRIPTION:Anlässlich der steigenden Preise für Benzin\, Öl und Gas\, die uns unsere Abhängigkeit von fossilen Energien und von Autokraten vor Augen führen\, gibt es wieder Demonstrationen und Aktivitäten von Fridays for future\, Campact u.a. gegen die Rückabwicklung der Energiewende durch unsere Regierung:\nAm kommenden Samstag\, den 18.4. werden große Demonstrationen in vier deutschen Großstädten stattfinden: in Hamburg\, Berlin\, München und Köln.\nUnd am darauffolgen Freitag\, den 24.4. soll es Aktionen in möglichst allen Landkreisen geben.\nhttps://fridaysforfuture.de/aktionstag-24-4-2026/ \nEinige Aktive vom Runden Tisch Klima\, den Grandparents for future u.a. führen deshalb am Freitag\, 24.4. um 15 Uhr ein kleines Theaterstück auf dem Alten Markt in Lörrach auf mit dem Titel: Warum Energie so teuer ist und was wir dagegen tun können. Es treten dabei auf: Trump\, Putin\, ein Ölscheich\, Katherina Reiche\, Friedrich Merz u.a. Lasst Euch überrraschen!\nWir freuen uns sehr\, wenn Ihr kommt!
URL:https://fairnetzt-loerrach.de/veranstaltung/bundesweite-aktion-von-fridays-for-future/
LOCATION:Alter Markt\, Lörrach\, Basler Strasse 194\, Lörrach\, 79539\, Deutschland
ATTACH;FMTTYPE=image/jpeg:https://fairnetzt-loerrach.de/wp-content/uploads/2026/04/1503aab9-0712-4cfe-a41d-84948add3ea5-e1776199149956.jpeg
END:VEVENT
BEGIN:VEVENT
DTSTART;TZID=Europe/Berlin:20260425T193000
DTEND;TZID=Europe/Berlin:20260425T213000
DTSTAMP:20260422T225539
CREATED:20260213T173639Z
LAST-MODIFIED:20260217T190410Z
UID:22495-1777145400-1777152600@fairnetzt-loerrach.de
SUMMARY:Konzertlesung "Und der Wal spuckt mich aus"
DESCRIPTION:In seiner Konzertlesung „Und der Wal spuckt mich aus“ präsentiert Jan Simowitsch sein neues Buch in einer besonderen Mischung aus Lesung und eigens komponierten Klavierstücken. Humorvoll\, nachdenklich und berührend beschreibt er seinen Aufbruch ins Ungewisse: Nach der Kündigung seines Jobs reist er auf die Färörer – als erster Tourist der Saison – und begibt sich in ein Abendteuer\, das an die biblische Jona-Geschichte erinnert. Was dies mit einem schachspielenden Steinbutt zu tun hat\, wird der Autor im Laufe des abwechslungsreichen Abends verraten. \nJan Simowitsch (*1980) ist ausgebildeter Musiker und war unter anderem Leiter des Popinstitutes der Nordkirche. Er verbindet Wort und Musik in Konzerten\, engagiert sich gesellschaftspolitisch und teilt seine Gedanken regelmäßig auf Instagram. \nEintritt: \n16 Euro im Vorverkauf hier \n19 Euro an der Abendkasse
URL:https://fairnetzt-loerrach.de/veranstaltung/konzertlesung-und-der-wal-spuckt-mich-aus/
LOCATION:Alte Feuerwache\, Burghof 2\, Lörrach\, 79539\, Germany
CATEGORIES:Café Kirche
ATTACH;FMTTYPE=image/png:https://fairnetzt-loerrach.de/wp-content/uploads/2026/02/jan-simowitsch-vorderseite.png
END:VEVENT
BEGIN:VEVENT
DTSTART;TZID=Europe/Berlin:20260426T140000
DTEND;TZID=Europe/Berlin:20260426T170000
DTSTAMP:20260422T225539
CREATED:20260316T201157Z
LAST-MODIFIED:20260316T201157Z
UID:22736-1777212000-1777222800@fairnetzt-loerrach.de
SUMMARY:TUC - Nähwerkstatt
DESCRIPTION:TUC – Textil Upcycling Center\nUnter dem Motto: Verändern statt wegschmeißen entstehen in der Nähwerkstatt aus ausrangierten Kleidungsstücken neue Lieblingsteile. Eine erlesene Gruppe an fleißigen Hobby-Schneiderinnen zeigt wie es geht und hilft bei der Umsetzung. Teilnahme ist kostenfrei\, das Team freut sich aber über Spenden. Weitere Informationen gibt’s auf unserer Webseite.\n \nHereinspaziert – jede/r ist eingeladen\, vorbeizuschauen. \nTermine auch auf Anfrage! \nKontakt: tuc.loerrach@gmail.com \nEindrücke und Projekte finden sich auf Instagram: @tuc_loerrach
URL:https://fairnetzt-loerrach.de/veranstaltung/diy-upcycling-naehwerkstatt-2-2-2-3-4-2-2-3-3-2-3-2-2-2-2-2-2-2-2-3-2-2-2-3-2/
LOCATION:TUC Lörrach\, Bächlinweg 70\, Lörrach\, 79539\, Deutschland
CATEGORIES:Textiles Upcycling Center
ATTACH;FMTTYPE=image/jpeg:https://fairnetzt-loerrach.de/wp-content/uploads/2020/01/header-diy-nacc88hwerkstatt.jpg
ORGANIZER;CN="TUC L%C3%B6rrach":MAILTO:tuc.loerrach@gmail.com
END:VEVENT
BEGIN:VEVENT
DTSTART;TZID=Europe/Berlin:20260503T100000
DTEND;TZID=Europe/Berlin:20260503T130000
DTSTAMP:20260422T225539
CREATED:20260414T201933Z
LAST-MODIFIED:20260414T202149Z
UID:22789-1777802400-1777813200@fairnetzt-loerrach.de
SUMMARY:Apfelblütenfest auf der Streuobstwiese - Naturerlebnis für Familien
DESCRIPTION:Gemeinsam mit Barbara Schmitt streifen wir durch die blühende Streuobstwiese und erleben mit allen Sinnen den Zauber des Frühlings. Spielerisch entdecken wir\, welche Tiere und Pflanzen hier leben und warum die Blütezeit für Bienen\, Menschen und die spätere Apfelernte so wichtig ist.\nAn einer Feuerstelle lassen wir den Tag ausklingen\, bereiten etwas aus gesammelten Kräutern und Blüten zu und feiern den Frühling.\nEin naturpädagogisches Erlebnis für alle.\nTreffpunkt: Wendehammer am Keltenweg\, Lörrach-Brombach\, Laufstrecke bis zur Bühlerhütte (kinderwagentauglich).\nAnmeldung bis 26.04: BSchmitt@gmx.com \nBild: BUND Hochrhein
URL:https://fairnetzt-loerrach.de/veranstaltung/apfelbluetenfest-auf-der-streuobstwiese-naturerlebnis-fuer-familien/
LOCATION:Wendehammer am Keltenweg\, Lörrach-Brombach
CATEGORIES:BUND
ATTACH;FMTTYPE=image/jpeg:https://fairnetzt-loerrach.de/wp-content/uploads/2026/04/20230421-131352-e1776198069989.jpg
ORGANIZER;CN="BUND Hochrhein":MAILTO:bund.hochrhein(at)bund.net
END:VEVENT
BEGIN:VEVENT
DTSTART;TZID=Europe/Berlin:20260504T180000
DTEND;TZID=Europe/Berlin:20260504T200000
DTSTAMP:20260422T225539
CREATED:20260414T195756Z
LAST-MODIFIED:20260414T195756Z
UID:22771-1777917600-1777924800@fairnetzt-loerrach.de
SUMMARY:Slow Fashion gegen hässliche Kleidung
DESCRIPTION:Herzliche Einladung zum Vortag mit Frau Prof.in Dr.in Martina Glomb zum Thema „Slow Fashion gegen hässliche Kleidung“. Glomb prägte über zwölf Jahre u.a. als Chefdesignerin in den Studios von Vivienne Westwood in London und Italien internationale Kollektionen – darunter die legendäre „Anglomania“-Linie und „Red Label“. Ab 2002 wechselte sie in die Lehre\, unterrichtete u.a. am Royal College of Art sowie an der China Academy of Art in Hangzhou.\nAktuell setzt sie mit Studierenden seit Jahren starke Impulse in den Bereichen Nachhaltigkeit und Slow Fashion. Als Leiterin des USE-LESS Zentrums für nachhaltige Designstrategien initiierte sie unter anderem die Wanderausstellung „USE-LESS – Slow Fashion gegen Verschwendung und hässliche Kleidung“ und forscht zu biobasierten Materialien\, lokalen Ressourcen\, textilen Kreisläufen sowie den globalen Herausforderungen der Modebranche.\nIn ihren Vorträgen verbindet sie High-Fashion-Praxis mit kritischer Designforschung – anschaulich\, inspirierend und nah an der Materie: Sie bringt ausgewählte Kleidungsstücke mit\, lädt zum Anfassen und Anprobieren ein und eröffnet so einen selten direkten Blick hinter die Kulissen internationaler Modeproduktion und zukunftsfähiger Designkonzepte.
URL:https://fairnetzt-loerrach.de/veranstaltung/slow-fashion-gegen-haessliche-kleidung/
LOCATION:DHBW Lörrach\, Campus Hangstraße 46-50\, Auditorium
CATEGORIES:Nützliches
ATTACH;FMTTYPE=image/jpeg:https://fairnetzt-loerrach.de/wp-content/uploads/2026/04/werbung-vortrag-a4.jpeg
END:VEVENT
BEGIN:VEVENT
DTSTART;TZID=Europe/Berlin:20260509T110000
DTEND;TZID=Europe/Berlin:20260509T130000
DTSTAMP:20260422T225539
CREATED:20260415T061127Z
LAST-MODIFIED:20260415T062517Z
UID:22833-1778324400-1778331600@fairnetzt-loerrach.de
SUMMARY:Amnesty-Treffen
DESCRIPTION:Die Amnestygruppe Lörrach trifft sich wieder zu ihrem monatlichen Treffen um aktuelle Themen zu besprechen und Aktionen zu planen und lädt herzlich dazu ein\, bei Interesse vorbeizukommen. \nWir freuen uns über alle\, die mehr über Amnesty International und unsere Arbeit wissen wollen. Bei unseren Gruppentreffen sind  deshalb alle  herzlich willkommen – ob einfach nur mal so zum Reinschnuppern oder gleich zum tatkräftigen Mitarbeiten. \nWir treffen uns i.d.R. am ersten Samstag im Monat im Cafè Kirche. Änderungen während der Ferienzeit sind möglich. Die Termine können auch gerne per Mail abgefragt werden: loerrach@amnesty-suedbaden.de \n  \nWer keine Zeit hat\, kann sich auch jederzeit beim monatlichen digitalen Einsteigertreffen\, an jedem letzten Donnerstag im Monat\, über Amnesty und die Arbeit informieren. \nhttps://www.amnesty.de/allgemein/termine/jetzt-anmelden-digitales-amnesty-einsteigerinnentreffen \n 
URL:https://fairnetzt-loerrach.de/veranstaltung/amnesty-treffen-4-2/
CATEGORIES:Amnesty International
ATTACH;FMTTYPE=image/png:https://fairnetzt-loerrach.de/wp-content/uploads/2025/10/amnesty-live.png
END:VEVENT
BEGIN:VEVENT
DTSTART;TZID=Europe/Berlin:20260509T140000
DTEND;TZID=Europe/Berlin:20260509T160000
DTSTAMP:20260422T225539
CREATED:20260414T202856Z
LAST-MODIFIED:20260414T202919Z
UID:22797-1778335200-1778342400@fairnetzt-loerrach.de
SUMMARY:Spaziergang im Eggener Tal
DESCRIPTION:Bei einem Spaziergang mit dem BUND-Ortsverband Bad Bellingen-Schliengen durch das Eggener Tal besuchen wir verschiedene Streuobstwiesen. Neben spannenden Einblicken in diese Kulturlandschaft genießen wir die Schönheit des Tals\, das trotz intensiver Obstnutzung eine vielfältige Landschaft geblieben ist.\nTreffpunkt: Friedhof Obereggenen. \nBild: BUND Hochrhein
URL:https://fairnetzt-loerrach.de/veranstaltung/spaziergang-im-eggener-tal/
LOCATION:Friedhof Obereggenen
CATEGORIES:BUND
ATTACH;FMTTYPE=image/jpeg:https://fairnetzt-loerrach.de/wp-content/uploads/2026/04/20240322-170326-e1776198525230.jpg
ORGANIZER;CN="BUND Hochrhein":MAILTO:bund.hochrhein(at)bund.net
END:VEVENT
BEGIN:VEVENT
DTSTART;TZID=Europe/Berlin:20260516T140000
DTEND;TZID=Europe/Berlin:20260516T180000
DTSTAMP:20260422T225539
CREATED:20260313T223618Z
LAST-MODIFIED:20260313T223618Z
UID:22671-1778940000-1778954400@fairnetzt-loerrach.de
SUMMARY:Flowmarkt & Markt der Möglichkeiten
DESCRIPTION:Neue Lieblingsstücke entdecken\, leckeres Essen genießen\, Live-Musik hören – und vielleicht sogar das passende Engagement finden: Bei »Flowmarkt« und »Markt der Möglichkeiten« verbinden sich Flohmarkt\, Kultur\, Engagement und Begegnung. Der Flowmarkt auf dem FABRIC-Gelände wird in Kooperation mit »Herzstück« veranstaltet. Auch während der Bauphase des neuen »Hauses für alle« und des Parks bleibt der Ort lebendig: An zahlreichen Ständen gibt es Kleidung\, Bücher\, Spielzeug und vieles mehr. Dazu bieten Foodtrucks aus der Region bei Live-Musik Leckereien an. \n\n\n\nStände können über die Website von »Herzstück« angemeldet werden: herzstueck-loerrach.de  \n  \nGleich gegenüber\, auf der anderen Straßenseite\, findet zeitgleich der Markt der Möglichkeiten statt. Auf der Wiese zwischen dem Werkraum und der Schöpflin Schule stellen sich Initiativen und Organisationen aus Lörrach und Umgebung vor\, die ehrenamtliche Mitstreiter:innen suchen. Der Markt lädt dazu ein ins Gespräch zu kommen\, spannende Projekte kennenzulernen und zu entdecken\, wo Freiwillige sich ehrenamtlich einbringen können. \n  \nMit dabei sind: \nBündnis 5 vor 12: Für Demokratie\, gegen Rechtsextremismus \nUNICEF Jugendteam Lörrach \nRunder Tisch Klima Lörrach \nCafé Kirche Lörrach \nFoodsharing e.V. \nund weitere Initiativen! Die Liste wird fortlaufend ergänzt. \nAusweichtermin bei schlechtem Wetter: Sa 23. Mai \nFoto © Lucia Hofmaier
URL:https://fairnetzt-loerrach.de/veranstaltung/flowmarkt-markt-der-moeglichkeiten/
LOCATION:FABRIC-Gelände\, Franz-Ehret-Straße\, Lörrach-Brombach\, Deutschland
ATTACH;FMTTYPE=image/png:https://fairnetzt-loerrach.de/wp-content/uploads/2026/03/csm-mdm-d44c6f9253.png
ORGANIZER;CN="fabric - Ein Projekt der Sch%C3%B6pflin Stiftung":MAILTO:fabric@christophschaefer.net
END:VEVENT
BEGIN:VEVENT
DTSTART;TZID=Europe/Berlin:20260517T100000
DTEND;TZID=Europe/Berlin:20260517T130000
DTSTAMP:20260422T225539
CREATED:20260414T203250Z
LAST-MODIFIED:20260414T203250Z
UID:22807-1779012000-1779022800@fairnetzt-loerrach.de
SUMMARY:Wiesenökologie mit scharfem Schnitt
DESCRIPTION:André Grabs gibt Einblicke in die faszinierende Welt der Wiesen und ihre ökologische Bedeutung. Themen sind unter anderem der richtige Mahdzeitpunkt sowie eine schonende Wiesenpflege mit der Sense.\nEine praktische Einführung rundet die Veranstaltung ab. Gut gepflegte Wiesen sind nicht nur artenreich\, sondern tragen auch zum Klimaschutz bei: Sie speichern Wasser\, binden CO₂ und stabilisieren wertvolle Pflanzengemeinschaften. \nAußerdem beschäftigen wir uns mit Pflanzengesellschaften und ihrer Verbindung zu Insekten. Schmetterlinge dienen dabei als Indikatoren für intakte Wiesen und können bei gutem Wetter beobachtet\nund bestimmt werden.\nOrt: Streuobstwiese Nordschwaben\nAnmeldung: bund.hochrhein@bund-bawue.de \nBild: André Grabs
URL:https://fairnetzt-loerrach.de/veranstaltung/wiesenoekologie-mit-scharfem-schnitt-2/
LOCATION:Streuobstwiese Nordschwaben
CATEGORIES:BUND
ATTACH;FMTTYPE=image/jpeg:https://fairnetzt-loerrach.de/wp-content/uploads/2026/04/rotkleeblaeuling-rebberg.jpg
ORGANIZER;CN="BUND Hochrhein":MAILTO:bund.hochrhein(at)bund.net
END:VEVENT
BEGIN:VEVENT
DTSTART;TZID=Europe/Berlin:20260523T140000
DTEND;TZID=Europe/Berlin:20260523T160000
DTSTAMP:20260422T225539
CREATED:20260414T203540Z
LAST-MODIFIED:20260414T203552Z
UID:22815-1779544800-1779552000@fairnetzt-loerrach.de
SUMMARY:Bienen & Imkerei auf der Streuobstwiese
DESCRIPTION:Imker Joachim Weber stellt seine Bienenstöcke auf der Streuobstwiese vor und gewährt spannende Einblicke in das Leben der Bienen\, die wichtige Rolle der Bestäubung sowie die vielfältigen Aufgaben eines Imkers.\nOrt: Streuobstwiese Nordschwaben\nAnmeldung erforderlich: bund.hochrhein@bund-bawue.de \nBild: BUND Hochrhein
URL:https://fairnetzt-loerrach.de/veranstaltung/bienen-imkerei-auf-der-streuobstwiese/
LOCATION:Streuobstwiese Nordschwaben
CATEGORIES:BUND
ATTACH;FMTTYPE=image/jpeg:https://fairnetzt-loerrach.de/wp-content/uploads/2026/04/nordschwaben-e1776198928511.jpg
ORGANIZER;CN="BUND Hochrhein":MAILTO:bund.hochrhein(at)bund.net
END:VEVENT
BEGIN:VEVENT
DTSTART;TZID=Europe/Berlin:20261107T100000
DTEND;TZID=Europe/Berlin:20261107T123000
DTSTAMP:20260422T225539
CREATED:20260218T101407Z
LAST-MODIFIED:20260319T134050Z
UID:22568-1794045600-1794054600@fairnetzt-loerrach.de
SUMMARY:Wegwerfen? Denkste! Repair Café in Halle 9
DESCRIPTION:Im Repair-Café kannst Du mit fachkundiger Unterstützung defekte Alltags- und Gebrauchsgegenstände reparieren. Um die Wartezeit zu überbrücken gibt es leckere Kuchen und Kaffee. Staubsauger\, Fön\, Rasierapparat\, Hosen\, Fahrräder\, Holzspielzeuge\, was auch immer…. reparieren ist immer besser als wegwerfen und neu kaufen! Repariert werden können technische Geräte\, mechanische Geräte\, Textilien und Fahrräder. \n  \n 
URL:https://fairnetzt-loerrach.de/veranstaltung/wegwerfen-denkste-repair-cafe-in-halle-9-2-2-2/
LOCATION:Halle 9 – Repair Café\, Gewerbestraße 9\, Lörrach\, 79539\, Deutschland
CATEGORIES:Repair Café
ATTACH;FMTTYPE=image/gif:https://fairnetzt-loerrach.de/wp-content/uploads/2024/01/repair-cafe-lorrach.gif
END:VEVENT
END:VCALENDAR