BEGIN:VCALENDAR
VERSION:2.0
PRODID:-//fairNETZt - ECPv6.12.0//NONSGML v1.0//EN
CALSCALE:GREGORIAN
METHOD:PUBLISH
X-ORIGINAL-URL:https://fairnetzt-loerrach.de
X-WR-CALDESC:Veranstaltungen für fairNETZt
REFRESH-INTERVAL;VALUE=DURATION:PT1H
X-Robots-Tag:noindex
X-PUBLISHED-TTL:PT1H
BEGIN:VTIMEZONE
TZID:Europe/Berlin
BEGIN:DAYLIGHT
TZOFFSETFROM:+0100
TZOFFSETTO:+0200
TZNAME:CEST
DTSTART:20250330T010000
END:DAYLIGHT
BEGIN:STANDARD
TZOFFSETFROM:+0200
TZOFFSETTO:+0100
TZNAME:CET
DTSTART:20251026T010000
END:STANDARD
END:VTIMEZONE
BEGIN:VEVENT
DTSTART;TZID=Europe/Berlin:20250929T090000
DTEND;TZID=Europe/Berlin:20251025T123000
DTSTAMP:20260419T181353
CREATED:20250926T153336Z
LAST-MODIFIED:20251023T104031Z
UID:22146-1759136400-1761395400@fairnetzt-loerrach.de
SUMMARY:Pop-up Coworking & Colearning der Stadtkirche in Lörrach
DESCRIPTION:Neue ökumenische Initiative: Pop-up Coworking & Colearning \nAm Campus Stadtkirche Lörrach entsteht etwas Neues: ein Ort & eine Community zum Arbeiten\, Lernen und Begegnen. Ob Kreative\, Schüler:innen\, Selbständige\, Studierende oder alle\, die zuhause keinen passenden Platz finden – hier entsteht als Experiment für einige Wochen ein Raum mit guter Atmosphäre. Wie es danach weitergeht\, wird im Laufe des Prozesses geschaut. \nÖffnungszeiten:\nMontag bis Freitag\, 9 bis 17 Uhr\nSamstag\, 9.30 bis 12.30 Uhr \nNeben offenen Arbeitsplätzen am Ort des Coworkings und Colearnings wird auch ein Programm mit Workshops und Impulsen geboten– rund um Themen wie Kreativität\, neue Ideen und gemeinsames Lernen. \nDie Initiatoren freuen sich\, wenn viele Menschen von diesem Angebot erfahren\, selbst vorbeischauen und/ oder die Initiative gedanklich und im Gebet unterstützen. Jede Form von Interesse und Ermutigung trägt dazu bei\, dass dieser Versuch gelingt. \nNB: Wir von „Kraft im Wandel“ unterstützen die Initiative und bewerben sie deshalb auf unseren Kanälen.
URL:https://fairnetzt-loerrach.de/veranstaltung/pop-up-coworking-colearning-der-stadtkirche-in-loerrach/
LOCATION:Alte Feuerwache\, Burghof 2\, Lörrach\, 79539\, Germany
CATEGORIES:Kraft im Wandel
ATTACH;FMTTYPE=image/jpeg:https://fairnetzt-loerrach.de/wp-content/uploads/2025/09/plakat-popup-coworking-colearning-a4-docum39-0000.jpg
ORGANIZER;CN="Stadtkirche L%C3%B6rrach":MAILTO:gemeindebuero.loerrach@kbz.ekiba.de
END:VEVENT
BEGIN:VEVENT
DTSTART;TZID=Europe/Berlin:20251018T100000
DTEND;TZID=Europe/Berlin:20251018T120000
DTSTAMP:20260419T181353
CREATED:20250926T214143Z
LAST-MODIFIED:20250926T214143Z
UID:22162-1760781600-1760788800@fairnetzt-loerrach.de
SUMMARY:Gästeführung: Future Fashion Tour
DESCRIPTION:Ein Stadtrundgang durch Lörrach – Treffpunkt an der Touristeninformation \n\n\nReise mit Manuela Eder durch die Lörracher Textilgeschichte und erhalte Tipps und Tricks für den Umgang mit deinen Kleidungsstücken. Tauche mit uns in die nachhaltige Modewelt ein und erfahre\, wo es in Lörrach öko-faire\, „upgecycelte“ Kleidung gibt und wie stylisch diese sein kann.\n\nZum Abschluss stellt sich das TUC (Textilupcycling Center) im Café Kirche vor. Dort kann zum Ausklang auch eine nachhaltige Kaffeepause gemacht werden.\n\nWeitere Infos unter https://www.loerrach.de/de/Loerrach-Erleben/Kultur/Veranstaltungskalender/Veranstaltung?view=publish&item=eventDate&id=8563
URL:https://fairnetzt-loerrach.de/veranstaltung/gaestefuehrung-future-fashion-tour-2-2/
LOCATION:Touristeninformation Lörrach\, Basler Str. 170\, Lörrach\, 79539
CATEGORIES:Café Kirche,Textiles Upcycling Center
ATTACH;FMTTYPE=image/jpeg:https://fairnetzt-loerrach.de/wp-content/uploads/2024/07/future-fashion-tour3.jpg
END:VEVENT
BEGIN:VEVENT
DTSTART;TZID=Europe/Berlin:20251018T100000
DTEND;TZID=Europe/Berlin:20251018T130000
DTSTAMP:20260419T181353
CREATED:20250528T144152Z
LAST-MODIFIED:20250528T144152Z
UID:21999-1760781600-1760792400@fairnetzt-loerrach.de
SUMMARY:Eine Oase für die Gelbbauchunke
DESCRIPTION:Der Klimawandel macht es den Amphibien zunehmend schwer\, geeignete Gewässer für die Fortpflanzung zu finden. Erst laufen wir durch das Naturschutzgebiet „Kiesgrube Käppelin“\, um die Vielfalt des Gebietes zu entdecken und erleben. Beim Pflegeeinsatz werden wir die Amphibien durch die Anlage von Kleingewässern unterstützen\, besonders die kleine Gelbbauchunke wird von den neuen Tümpeln profitieren. \nExkursion & Pflegeeinsatz
URL:https://fairnetzt-loerrach.de/veranstaltung/eine-oase-fuer-die-gelbbauchunke/
LOCATION:TRUZ\, Mattrain 1\, Weil am Rhein\, Mattrain 1\, Weil am Rhein\, 79576\, Deutschland
CATEGORIES:BUND
ORGANIZER;CN="BUND Hochrhein":MAILTO:bund.hochrhein(at)bund.net
END:VEVENT
END:VCALENDAR