BEGIN:VCALENDAR
VERSION:2.0
PRODID:-//fairNETZt - ECPv6.12.0//NONSGML v1.0//EN
CALSCALE:GREGORIAN
METHOD:PUBLISH
X-WR-CALNAME:fairNETZt
X-ORIGINAL-URL:https://fairnetzt-loerrach.de
X-WR-CALDESC:Veranstaltungen für fairNETZt
REFRESH-INTERVAL;VALUE=DURATION:PT1H
X-Robots-Tag:noindex
X-PUBLISHED-TTL:PT1H
BEGIN:VTIMEZONE
TZID:Europe/Berlin
BEGIN:DAYLIGHT
TZOFFSETFROM:+0100
TZOFFSETTO:+0200
TZNAME:CEST
DTSTART:20250330T010000
END:DAYLIGHT
BEGIN:STANDARD
TZOFFSETFROM:+0200
TZOFFSETTO:+0100
TZNAME:CET
DTSTART:20251026T010000
END:STANDARD
END:VTIMEZONE
BEGIN:VEVENT
DTSTART;VALUE=DATE:20250702
DTEND;VALUE=DATE:20250707
DTSTAMP:20260420T031651
CREATED:20250604T153305Z
LAST-MODIFIED:20250604T153305Z
UID:22021-1751443200-1751788799@fairnetzt-loerrach.de
SUMMARY:Erstes Lörracher Klimafestival
DESCRIPTION:Eine Bühne für den Klimaschutz in der Region – gerade jetzt\, wo die öffentliche Aufmerksamkeit für die Klimakrise zurückgeht. Gemeinsam veranstalten der Runde Tisch Klima Lörrach und die Schöpflin Stiftung vom 2.-5. Juli 2025 das erste Lörracher Klimafestival. \nWir stellen die Schönheit der Natur ins Zentrum\, zeigen Menschen\, die für mehr Klimagerechtigkeit kämpfen und informieren darüber\, wie Jede und Jeder sich im Kleinen für mehr Klimaschutz engagieren kann. \nMit einem Fest feiern wir die vielen Schritte\, die der Runde Tisch Klima in den vergangenen fünf Jahren in Politik\, Wirtschaft und Öffentlichkeit bereits angeregt haben. Dazu laden wir sehr herzlich ein: \n5 Jahre Runder Tisch Klima: das Fest! \nDonnerstag\, 3. Juli 2025\, 18 Uhr\, im Werkraum Schöpflin\, Lörrach \nMit: \nJulia Kovar\, Leiterin der Klimaschutzstiftung Baden-Württemberg (Impulsvortrag) \nMarion Dammann\, Landrätin des Landkreises Lörrach \nMonika Neuhöfer-Avdić\, Bürgermeisterin der Stadt Lörrach \nTim Göbel\, Schöpflin Stiftung \n……und einem zauberhaften künstlerischen Rahmenprogramm. \nBitte meldet Euch hier an:  https://www.werkraum-schoepflin.de/detailansicht/fuenf-jahre-runder-tisch-klima-das-fest \nWir freuen uns auf Euch! \nZu den weiteren Veranstaltungen des Lörracher Klimafestivals geht es hier: https://www.werkraum-schoepflin.de/programm
URL:https://fairnetzt-loerrach.de/veranstaltung/erstes-loerracher-klimafestival/
LOCATION:Werkraum Schöpflin\, Franz-Ehret-Straße 7\, Lörrach\, 79541
CATEGORIES:Runder Tisch Klima Lörrach
ATTACH;FMTTYPE=image/jpeg:https://fairnetzt-loerrach.de/wp-content/uploads/2025/06/klimafestival.jpg
END:VEVENT
BEGIN:VEVENT
DTSTART;TZID=Europe/Berlin:20250705T110000
DTEND;TZID=Europe/Berlin:20250705T140000
DTSTAMP:20260420T031651
CREATED:20250604T151551Z
LAST-MODIFIED:20250604T151551Z
UID:22011-1751713200-1751724000@fairnetzt-loerrach.de
SUMMARY:Starke Frauen.Starkes Land - Infomesse und Vortrag
DESCRIPTION:Es gibt interessante Infostände mit Expertinnen zu folgenden Themen: \nFamilienzeit und eine sichere Rente – geht das? \nBerufliche Chancen trotz Familie? \nUmschulung und berufliche Veränderung während der Familienzeit \nHaushalt\, Kinder & Beruf – Weg vom Mental Load hin zum Miteinander Familie gestalten! \nGewalterfahrung in der Beziehung – Was kann ich tun? \nSchöpferische Pausen und Kultur für mich und meine Familie \nAnkommen in Deutschland – Wie finde ich meinen Weg als Frau und Mutter in einer neuen Gesellschaft? \nKirchliche Angebote für Starke Frauen! \n12:30 Uhr Vortrag Frau Dr. Birgit Happel \n„Ein neues Geldbewusstsein – Warum finanzielle Selbstbestimmung für Frauen so wichtig ist.“ \nWährend der gesamten Veranstaltung versorgt Euch Café Kirche gerne mit süßen und salzigen Leckereien\, mit kalten und heißen Getränken.
URL:https://fairnetzt-loerrach.de/veranstaltung/starke-frauen-starkes-land-infomesse-und-vortrag/
LOCATION:Café Kirche\, Alte Feuerwache\, Burghof 2\, Lörrach\, 79539
CATEGORIES:Café Kirche
ATTACH;FMTTYPE=image/png:https://fairnetzt-loerrach.de/wp-content/uploads/2025/06/flyer-0705-ruckseite1.png
END:VEVENT
BEGIN:VEVENT
DTSTART;TZID=Europe/Berlin:20250705T120000
DTEND;TZID=Europe/Berlin:20250705T130000
DTSTAMP:20260420T031651
CREATED:20250626T153702Z
LAST-MODIFIED:20250626T153702Z
UID:22056-1751716800-1751720400@fairnetzt-loerrach.de
SUMMARY:Mahnwache: Stoppt den Krieg in Gaza
DESCRIPTION:Die Amnestygruppe Lörrach ruft am 5. Juli am Hirschenbrunnen\, Galeria Lörrach\,  zu einer Mahnwache auf für die Menschen in Gaza\, für die Geiseln der Hamas\, für die Angehörigen aller Opfer. \nDie Mahnwache richtet sich gegen jede Gewalt: die Gewalt der Hamas gegenüber Israel aber auch die des israelischen Militärs\, gegen die Zerstörung des Gazastreifens\, die Vertreibung und Tötung der Menschen und gegen das Vorenthalten von Lebensmitteln\, Trinkwasser\, Treibstoff\, Strom und Lebensraum. \nJeden Tag werden unschuldige Menschen von Israel getötet. Aber wir nehmen kaum noch Notiz\, wir stumpfen ab\, es sind zu viele. Wir müssen aber hingucken\, um nicht mitschuldig zu werden. \nIm Rahmen der Kundgebung kann sich jeder an einer Petition an die Bundesregierung beteiligen\, sich bei allen Maßnahmen am Völkerrecht zu orientieren und sich mit allen Mitteln für einen dauerhaften Waffenstillstand zwischen den Konfliktparteien einzusetzen. Wir appellieren ebenso\, keine Rüstungsgüter an Israel zu liefern\, wenn die Gefahr besteht\, dass diese völkerrechtswidrig eingesetzt werden. \nSelbstgemachte respektvoll formulierte Plakate zur Unterstützung unserer Forderungen sind willkommen. Antisemitische\, Islamophobe oder andere Hassdarstellen sind nicht erwünscht. \n  \nE-Mail-Aktion an den Bundeskanzler: \nMachen Sie mit bei unserer E-Mail-Aktion an Bundeskanzler Friedrich Merz und den Außenminister Johann Wadephul und fordern Sie die deutsche Bundesregierung auf\, mit Taten Druck auf die israelische Regierung auszuüben! \nWeitere Informationen:  \nhttps://www.amnesty.de/informieren/laender/palaestina \nhttp://amnestydeutschland
URL:https://fairnetzt-loerrach.de/veranstaltung/mahnwache-stoppt-den-krieg-in-gaza/
LOCATION:Lörrach
CATEGORIES:Amnesty International
ATTACH;FMTTYPE=image/jpeg:https://fairnetzt-loerrach.de/wp-content/uploads/2025/06/stoppt-genozid-amnesty-int.jpg
ORGANIZER;CN="Amnesty International Gruppe L%C3%B6rrach":MAILTO:loerrach@amnesty-suedbaden.de
END:VEVENT
BEGIN:VEVENT
DTSTART;TZID=Europe/Berlin:20250705T130000
DTEND;TZID=Europe/Berlin:20250705T170000
DTSTAMP:20260420T031651
CREATED:20250622T070740Z
LAST-MODIFIED:20250622T155653Z
UID:22045-1751720400-1751734800@fairnetzt-loerrach.de
SUMMARY:Wir bauen Demokratie - Aktionstag im Nellie Nashorn
DESCRIPTION:Zwischen der Bundestagswahl im Februar und dem Tag der Demokratie im September ist es Zeit\, gemeinsam an der Demokratie der Zukunft zu arbeiten. Denn Demokratie lebt vom Mitmachen und Miteinander reden. Wie müsste eine Demokratie aussehen\, bei der Menschen\, statt sich voneinander abzugrenzen\, wieder miteinander sprächen und nach guten Lösungen suchen? Was braucht es\, dass unsere Demokratie für die anstehenden Herausforderungen gerüstet ist und auch nachfolgenden Generationen dient? Was können wir aus der Vergangenheit und von den Demokratien anderer Länder lernen? \nFür den 5. Juli laden wir alle Bürger*innen in und um Lörrach zum Aktionstag „Wir bauen Demokratie“ ins Nellie Nashorn ein. Dort gibt es Workshops\, Film\, Theater\, ein Kunstprojekt von Kindern zu Kinderrechten\, Informationen und weitere Mitmach-Angebote. Und für das leibliche Wohl an dem Tag ist ebenso gesorgt. \nLasst uns gemeinsam die Vielfalt der Demokratie erfahren und den Fragen nach ihrer Zukunft nachgehen. Nicht kritisieren\, sondern evaluieren\, konzipieren und machen! Mit einem Demokratie-Baukasten\, der Lust macht auf Mitgestaltung unserer Demokratie für die Zukunft. \nDer Tag ist das Ende eines Prozesses\, in dem seit April interessierte und engagierte Menschen aller Couleur regelmäßig zusammenkommen und ihre Ideen und Projekte vorbereiten. Ihnen gebührt ein großer Dank. Veranstaltung und gemeinschaftlicher Prozess werden getragen vom Bündnis 5 vor 12\, von Kraft im Wandelund vom Nellie Nashorn aus Lörrach\, unter Förderung durch die Allianz für Beteiligung Baden-Württemberg. Das genaue Programm wird wenige Tage vorher auf der Webseite veröffentlicht. \nKontakt: Isabell Schäfer-Neudeck\, Email: Isabell(at)kraftimwandel.de \nPS: und nach der Veranstaltung findet ein Konzert der Freiburger Gypsy-Band Coco Dièze im Rahmen der Lörracher STIMMEN-Konzerte im Nellie Nashorn statt. Gegen Spende.
URL:https://fairnetzt-loerrach.de/veranstaltung/wir-bauen-demokratie-aktionstag-im-nellie-nashorn/
CATEGORIES:Bürgerbeteiligung,Kraft im Wandel
ATTACH;FMTTYPE=application/pdf:https://fairnetzt-loerrach.de/wp-content/uploads/2025/06/plakat-wir-bauen-demokratie.pdf
END:VEVENT
END:VCALENDAR