BEGIN:VCALENDAR
VERSION:2.0
PRODID:-//fairNETZt - ECPv6.12.0//NONSGML v1.0//EN
CALSCALE:GREGORIAN
METHOD:PUBLISH
X-ORIGINAL-URL:https://fairnetzt-loerrach.de
X-WR-CALDESC:Veranstaltungen für fairNETZt
REFRESH-INTERVAL;VALUE=DURATION:PT1H
X-Robots-Tag:noindex
X-PUBLISHED-TTL:PT1H
BEGIN:VTIMEZONE
TZID:Europe/Berlin
BEGIN:DAYLIGHT
TZOFFSETFROM:+0100
TZOFFSETTO:+0200
TZNAME:CEST
DTSTART:20250330T010000
END:DAYLIGHT
BEGIN:STANDARD
TZOFFSETFROM:+0200
TZOFFSETTO:+0100
TZNAME:CET
DTSTART:20251026T010000
END:STANDARD
END:VTIMEZONE
BEGIN:VEVENT
DTSTART;TZID=Europe/Berlin:20250505T080000
DTEND;TZID=Europe/Berlin:20250630T170000
DTSTAMP:20260424T133837
CREATED:20250505T160209Z
LAST-MODIFIED:20250505T160209Z
UID:21916-1746432000-1751302800@fairnetzt-loerrach.de
SUMMARY:Fotowettbewerb
DESCRIPTION:Der Runde Tisch Klima Lörrach veranstaltet einen Fotowettbewerb mit dem Thema „NaturGarten“ im Zeitraum vom 04.05. bis 30.6.25 \nFotografieren Sie die schönste „wilde Ecke“ oder den artenreichsten Bereich. Schießen Sie ein Foto von der wildesten Ecke im Garten\, auf dem Balkon\, Fensterbrett oder der Terrasse.  \nDie Teilnahme ist kostenlos.\nEinsendeschluss: 30.6.2025.\nFotowettbewerb NaturGartenTeilnahmebedingungen
URL:https://fairnetzt-loerrach.de/veranstaltung/fotowettbewerb/
ATTACH;FMTTYPE=image/jpeg:https://fairnetzt-loerrach.de/wp-content/uploads/2025/05/dscf3346.jpg
END:VEVENT
BEGIN:VEVENT
DTSTART;TZID=Europe/Berlin:20250614T100000
DTEND;TZID=Europe/Berlin:20250614T180000
DTSTAMP:20260424T133837
CREATED:20250501T201746Z
LAST-MODIFIED:20250501T201746Z
UID:21895-1749895200-1749924000@fairnetzt-loerrach.de
SUMMARY:Tag des afrikanischen Kindes 2025
DESCRIPTION:Ein Tag mit Sport\, Spiel\, Kreativität\, Begegnungen und leckerem Essen für die ganze Familie organisiert von Welt Aktiv e.V. und unterstützt durch andere Gruppen\, z.B. sorgt Dikome-Kamerun e.V. für guten Kaffee\, Café Kirche bringt selbstgebackene Kuchen mit\, einige fairNETZt-Gruppen stellen ihre Arbeit vor. \nGefördert vom Landkreis Lörrach mit Fördermitteln aus dem Programm 2025 „Brücken der Verständigung – Gemeinsam für ein respektvolles Miteinander“ \nHerzlich willkommen – schaut einfach mal vorbei!
URL:https://fairnetzt-loerrach.de/veranstaltung/tag-des-afrikanischen-kindes-2025/
LOCATION:Wintersbuckhalle\, Wintersbuckstr. 5\, Lörrach\, 79539\, Deutschland
ATTACH;FMTTYPE=image/jpeg:https://fairnetzt-loerrach.de/wp-content/uploads/2025/05/img-20250429-wa0002.jpg
ORGANIZER;CN="Welt aktiv e.V.":MAILTO:info@welt-aktiv.de
END:VEVENT
BEGIN:VEVENT
DTSTART;TZID=Europe/Berlin:20250614T110000
DTEND;TZID=Europe/Berlin:20250614T123000
DTSTAMP:20260424T133837
CREATED:20250610T085246Z
LAST-MODIFIED:20250610T085246Z
UID:22036-1749898800-1749904200@fairnetzt-loerrach.de
SUMMARY:Amnesty-Treffen
DESCRIPTION:Die Amnestygruppe Lörrach trifft sich zu ihrem monatlichen Treffen um aktuelle Themen zu besprechen. \nInteressierte sind jederzeit herzlich willkommen. \nTreffpunkt: Café Kirche\, Alte Feuerwache \n 
URL:https://fairnetzt-loerrach.de/veranstaltung/amnesty-treffen/
LOCATION:Memory Risto-Bar-Pizzeria\, Herrenstr. 3\, Lörrach\, 79539
CATEGORIES:Amnesty International
ORGANIZER;CN="Amnesty International Gruppe L%C3%B6rrach":MAILTO:loerrach@amnesty-suedbaden.de
END:VEVENT
BEGIN:VEVENT
DTSTART;TZID=Europe/Berlin:20250614T140000
DTEND;TZID=Europe/Berlin:20250614T170000
DTSTAMP:20260424T133837
CREATED:20250604T190347Z
LAST-MODIFIED:20250604T190347Z
UID:22026-1749909600-1749920400@fairnetzt-loerrach.de
SUMMARY:Schulung zu nachhaltigem Einkauf
DESCRIPTION:Am Tag des Afrikanischen Kindes bietet Welt aktiv e.V. speziell für afrikanische Mitbürger*innen eine Schulung für nachhaltigen Einkauf und Umgang mit Lebensmitteln an. Auch Interessierte anderer Nationen dürfen gerne teilnehmen 🙂
URL:https://fairnetzt-loerrach.de/veranstaltung/schulung-zu-nachhaltigem-einkauf/
LOCATION:Wintersbuckhalle\, Wintersbuckstr. 5\, Lörrach\, 79539\, Deutschland
CATEGORIES:Welt Aktiv
ATTACH;FMTTYPE=image/jpeg:https://fairnetzt-loerrach.de/wp-content/uploads/2025/06/weltaktiv.jpg
ORGANIZER;CN="Welt aktiv e.V.":MAILTO:info@welt-aktiv.de
END:VEVENT
END:VCALENDAR