BEGIN:VCALENDAR
VERSION:2.0
PRODID:-//fairNETZt - ECPv6.12.0//NONSGML v1.0//EN
CALSCALE:GREGORIAN
METHOD:PUBLISH
X-ORIGINAL-URL:https://fairnetzt-loerrach.de
X-WR-CALDESC:Veranstaltungen für fairNETZt
REFRESH-INTERVAL;VALUE=DURATION:PT1H
X-Robots-Tag:noindex
X-PUBLISHED-TTL:PT1H
BEGIN:VTIMEZONE
TZID:Europe/Berlin
BEGIN:DAYLIGHT
TZOFFSETFROM:+0100
TZOFFSETTO:+0200
TZNAME:CEST
DTSTART:20250330T010000
END:DAYLIGHT
BEGIN:STANDARD
TZOFFSETFROM:+0200
TZOFFSETTO:+0100
TZNAME:CET
DTSTART:20251026T010000
END:STANDARD
END:VTIMEZONE
BEGIN:VEVENT
DTSTART;TZID=Europe/Berlin:20250505T080000
DTEND;TZID=Europe/Berlin:20250630T170000
DTSTAMP:20260424T214414
CREATED:20250505T160209Z
LAST-MODIFIED:20250505T160209Z
UID:21916-1746432000-1751302800@fairnetzt-loerrach.de
SUMMARY:Fotowettbewerb
DESCRIPTION:Der Runde Tisch Klima Lörrach veranstaltet einen Fotowettbewerb mit dem Thema „NaturGarten“ im Zeitraum vom 04.05. bis 30.6.25 \nFotografieren Sie die schönste „wilde Ecke“ oder den artenreichsten Bereich. Schießen Sie ein Foto von der wildesten Ecke im Garten\, auf dem Balkon\, Fensterbrett oder der Terrasse.  \nDie Teilnahme ist kostenlos.\nEinsendeschluss: 30.6.2025.\nFotowettbewerb NaturGartenTeilnahmebedingungen
URL:https://fairnetzt-loerrach.de/veranstaltung/fotowettbewerb/
ATTACH;FMTTYPE=image/jpeg:https://fairnetzt-loerrach.de/wp-content/uploads/2025/05/dscf3346.jpg
END:VEVENT
BEGIN:VEVENT
DTSTART;TZID=Europe/Berlin:20250524T110000
DTEND;TZID=Europe/Berlin:20250524T170000
DTSTAMP:20260424T214414
CREATED:20250317T203530Z
LAST-MODIFIED:20250505T210028Z
UID:21690-1748084400-1748106000@fairnetzt-loerrach.de
SUMMARY:Mach kein Müll Tag
DESCRIPTION:
URL:https://fairnetzt-loerrach.de/veranstaltung/mach-kein-muell-tag/
LOCATION:Café Metamorphose\, Hebelstr 23a\, Rheinfelden\, Baden-Württemberg\, 79618\, Deutschland
CATEGORIES:Foodsharing
ATTACH;FMTTYPE=image/png:https://fairnetzt-loerrach.de/wp-content/uploads/2018/11/foodsharing_logo_sw.png
END:VEVENT
BEGIN:VEVENT
DTSTART;TZID=Europe/Berlin:20250524T140000
DTEND;TZID=Europe/Berlin:20250524T170000
DTSTAMP:20260424T214414
CREATED:20250405T184511Z
LAST-MODIFIED:20250505T152924Z
UID:21840-1748095200-1748106000@fairnetzt-loerrach.de
SUMMARY:Natur vernetzt
DESCRIPTION:Die Schöpflin Stiftung zusammen mit der AG NaturStadt des Runden Tischs Klima und dem BUND Hochrhein präsentieren: \n– eine Pflanzentauschbörse: Wer in nächster Zeit Pflanzen im Haus\, im Topf oder im Garten vermehrt\, teilt oder rausnimmt: Bitte denkt an die Tauschbörse\, topft sie ein und bringt sie am 24.05. mit! Egal ob Zierpflanze\, Wildblumen\, Gemüse\, Kräuter oder Baum\, wir tauschen alles\, außer Kirschlorbeer! \n– den Vortrag zum Thema „Gärten in Zeiten des Klimawandels“ um 15 Uhr: Die Gärtnerinnen Dagmar und Annika Bahner aus Grenzach-Wyhlen stellen klimaangepasste Stauden und Gehölze vor und gehen auf die Bedeutung von Zier- und Nutzgärten für die Förderung der Biodiversität ein. Sie geben Tipps zur Pflanzenauswahl für einen Garten\, in dem es bei angenehmen Temperaturen sowohl im sonnigen wie auch im schattigen Bereich über viele Monate reichlich blüht. \n– den Film „Bahnhof der Schmetterlinge“ um 17 Uhr: Heute ist der stillgelegte Badische Rangierbahnhof in Basel ein einzigartiger Lebensraum. Er ist einer der größten und artenreichsten Trockenstandorte im Schweizer Mittelland und diente als Rettungsanker für zahlreiche seltene Arten. Doch nun soll dieses Schutzgebiet mit einem großen Containerbahnhof für Schiff\, Schiene und Straße überbaut werden\, dem Gateway Basel Nord. Das Gateway soll den Containerverkehr von der Straße auf den Rhein und die Schiene verlagern. Er soll dazu beitragen\, dass die Schweiz und Europa ihren Klimazielen näherkommen. Der Film stellt den alten Bahnhof und das Infrastrukturprojekt\, das dort geplant ist\, in einen größeren Zusammenhang mit den Konsumgewohnheiten und dem Verständnis von Natur und Kultur. \n– die Ausstellung „Blühende Heuwiesen“ vom 14. – 24.5. im Plankiosk auf dem fabric-Areal in Brombach zu sehen. In der Ausstellung des BUND mit interaktiven Elementen können große und kleine Besucher den faszinierenden Lebensraum Heuwiese erkunden. In Wiesen gibt es vieles zu entdecken und zu bestaunen\, denn bunt blühende Heuwiesen mit einer Vielzahl an verschiedenen Pflanzenarten sind echte Paradiese für Schmetterlinge\, Wildbiene\, Feldlerche\, Grasfrosch und Co. Die Ausstellung richtet sich an interessierte Personen ab etwa 10 Jahren und eignet sich gut für einen Unterrichtsbesuch von Schulklassen. Kontakt: amandine.tupin(at)bund-bawue.de \n– Anschließend geht die Ausstellung „Blühende Heuwiesen“ nach Lörrach-Stetten in die St. Fridolinkirche und ist dort vom 25.5. – 30.6.\, täglich von 9-19 Uhr geöffnet.
URL:https://fairnetzt-loerrach.de/veranstaltung/natur-vernetzt/
LOCATION:FABRIC-Gelände\, Franz-Ehret-Straße\, Lörrach-Brombach\, Deutschland
CATEGORIES:BUND,Runder Tisch Klima Lörrach
ATTACH;FMTTYPE=image/jpeg:https://fairnetzt-loerrach.de/wp-content/uploads/2025/04/pflanzen-katya-ershova.jpg
END:VEVENT
BEGIN:VEVENT
DTSTART;TZID=Europe/Berlin:20250524T150000
DTEND;TZID=Europe/Berlin:20250524T170000
DTSTAMP:20260424T214414
CREATED:20250414T075315Z
LAST-MODIFIED:20250414T080310Z
UID:21883-1748098800-1748106000@fairnetzt-loerrach.de
SUMMARY:Café Kirche beim Neubürger*innenfest
DESCRIPTION:Die Bürgerstiftung Lörrach veranstaltet erstmals gemeinsam mit Kulturschaffenden und Vereinen im Nellie Nashorn ein Fest für neue Bürgerinnen und Bürger. Alle Lörracherinnen und Lörracher sind herzlich willkommen\, egal ob frisch zugezogen oder schon lange hier. Café Kirche bietet von 15 – 17 Uhr seine leckeren\, selbstgebackenen Kuchen an. \n\n\n\n\nDas aktuelle Programm wird Anfang Mai veröffentlicht auf www.buergerstiftung-loerrach.de und www.nellie-nashorn.de
URL:https://fairnetzt-loerrach.de/veranstaltung/cafe-kirche-beim-neubuergerinnenfest/
LOCATION:Nellie Nashorn\, Tumringer Straße 248\, Lörrach\, Baden-Württemberg\, 79539\, Deutschland
CATEGORIES:Café Kirche
ATTACH;FMTTYPE=image/jpeg:https://fairnetzt-loerrach.de/wp-content/uploads/2025/04/20240225-130707.jpg
END:VEVENT
BEGIN:VEVENT
DTSTART;TZID=Europe/Berlin:20250524T150000
DTEND;TZID=Europe/Berlin:20250524T200000
DTSTAMP:20260424T214414
CREATED:20250506T115938Z
LAST-MODIFIED:20250507T101150Z
UID:21926-1748098800-1748116800@fairnetzt-loerrach.de
SUMMARY:Gartengruppe WildWuchs beim Neubürger*innenfest
DESCRIPTION:Wir\, die Gartengruppe WildWuchs\, sind am 24.5. mit dabei beim Neubürger*innenfest im Nellie Nashorn. An unserem Stand könnt Ihr frisch gepflückten Kräutertee aus dem Nellie Garten bekommen. Außderdem suchen wir weitere neue Mitglieder\, um den schönen Nellie Garten zu erhalten und zu pflegen. Dabei ist viel Platz für eigene Ideen. Bei uns steht nicht nur die Pflege von Pflanzen an erster Stelle\, sondern auch die Pflege von sozialen Kontakten. Kommt mit uns gerne ins Gespräch an unserem Stand beim Neubürger*innenfest. Wir freuen uns auf Euch!
URL:https://fairnetzt-loerrach.de/veranstaltung/gartengruppe-wildwuchs-beim-neubuergerinnenfest/
LOCATION:Nellie Nashorn\, Tumringer Straße 248\, Lörrach\, Baden-Württemberg\, 79539\, Deutschland
ATTACH;FMTTYPE=image/jpeg:https://fairnetzt-loerrach.de/wp-content/uploads/2025/05/nellies-nashorn-mit-grabgabel.jpg
ORGANIZER;CN="WildWuchs Nellies Hofgarten":MAILTO:wildwuchsnellie@posteo.de
END:VEVENT
END:VCALENDAR