BEGIN:VCALENDAR
VERSION:2.0
PRODID:-//fairNETZt - ECPv6.12.0//NONSGML v1.0//EN
CALSCALE:GREGORIAN
METHOD:PUBLISH
X-WR-CALNAME:fairNETZt
X-ORIGINAL-URL:https://fairnetzt-loerrach.de
X-WR-CALDESC:Veranstaltungen für fairNETZt
REFRESH-INTERVAL;VALUE=DURATION:PT1H
X-Robots-Tag:noindex
X-PUBLISHED-TTL:PT1H
BEGIN:VTIMEZONE
TZID:Europe/Berlin
BEGIN:DAYLIGHT
TZOFFSETFROM:+0100
TZOFFSETTO:+0200
TZNAME:CEST
DTSTART:20250330T010000
END:DAYLIGHT
BEGIN:STANDARD
TZOFFSETFROM:+0200
TZOFFSETTO:+0100
TZNAME:CET
DTSTART:20251026T010000
END:STANDARD
END:VTIMEZONE
BEGIN:VEVENT
DTSTART;TZID=Europe/Berlin:20250329T090000
DTEND;TZID=Europe/Berlin:20250329T160000
DTSTAMP:20260421T080117
CREATED:20250310T154103Z
LAST-MODIFIED:20250310T154103Z
UID:21627-1743238800-1743264000@fairnetzt-loerrach.de
SUMMARY:Tag des Bodens
DESCRIPTION:Programm der Tagung:\n\nParken am Sportplatz ist möglich oder ums Rathaus 79589 Binzen Rathaussaal im 1. OG.\n8.30 Ankunft (Kaffee Tee Wasser Brezeln)\n9.00 Beginn Einführung ins Thema HeliosTerra\, Grusswort: Bürgermeister Schneucker\n9:30 Vorträge\n„Boden in seiner Vielschichtigkeit des Gebrauchs“ Dr. Frank Krumm\n„Referent bei FIBL angefragt.\n„Ist Boden eine Ware?“ Klaus Niedermann\n„Lebensgemeinschaft Boden und Pflanzen“ Der Regenwurm Dr. Frank Hagedorn.\nAussprache mit den Referenten\n11:30 Abmarsch zum Biber Biotop an der Kander\n12:00 Biber besuchen A. Schneucker/ F. Krumm\n12:20 Abmarsch zum Kunstrasen\n12:30 Kunstrasen A. Schneucker/ F. Krumm & Fußballverein\n13:00 Abmarsch zur Gärtnerei\n13:30 Gärtnerei\nAb 13:00 die Ausstellung zum Thema Boden geöffnet\nMittagessen Linsensuppe passt für Alle. (Kostet etwas.)\n14:00 Führung zu den Exponaten in der Gärtnerei\n16:00 Ende \nAnmeldung unter www.tagdesbodens.de\nEs ist möglich\, auch nur einen Teil dieser Veranstaltung zu besuchen.\nDie Veranstaltung findet bei jedem Wetter statt. \n  \nDer Boden ist immer da/ ganz selbstverständlich. Du kannst auf ihm springen und hüpfen\, wütend mit den Füßen auf ihn stampfen oder dich gemütlich darauflegen und die Wolken beobachten. Mehr noch: Du kannst Schätze im Boden vergraben\, Radieschen darin anbauen oder ein Zelt auf ihm aufstellen. \nDer Boden wird auch Erdreich oder Erde genannt – wie unser Planet. Ohne Boden könnten wir nicht leben und es gäbe keine Pflanzen und Tiere. Er ist unsere Lebensgrundlage.  Er filtert das Regenwasser\, bringt Pflanzen und Pilze hervor bietet Tieren einen Wohnraum und Menschen das Fundament für Häuser. \nIm Boden lagern Rohstoffe und Schätze. Er ist in manchen Regionen so wertvoll\, dass um ihn sogar Kriege geführt werden. \nWem gehört der Boden und was ist Boden eigentlich? \nAus dem Buch entnommen: „Unser größter Schatz: Der Boden“ Karolin Küntzel\nMit Illustrationen von Barbara Schulze Frenking\, Verlag Beltz & Gelberg\, ISBN: 978-3-407-75946-7 \n  \nBild von Nadja Donauer @ pixabay
URL:https://fairnetzt-loerrach.de/veranstaltung/tag-des-bodens/
LOCATION:Rathaus\, Binzen\, Am Rathausplatz 6\, Binzen\, 79589
CATEGORIES:BUND
ATTACH;FMTTYPE=image/jpeg:https://fairnetzt-loerrach.de/wp-content/uploads/2025/03/schaufel-nadjadonauer-pixabay.jpg
END:VEVENT
END:VCALENDAR