BEGIN:VCALENDAR
VERSION:2.0
PRODID:-//fairNETZt - ECPv6.12.0//NONSGML v1.0//EN
CALSCALE:GREGORIAN
METHOD:PUBLISH
X-ORIGINAL-URL:https://fairnetzt-loerrach.de
X-WR-CALDESC:Veranstaltungen für fairNETZt
REFRESH-INTERVAL;VALUE=DURATION:PT1H
X-Robots-Tag:noindex
X-PUBLISHED-TTL:PT1H
BEGIN:VTIMEZONE
TZID:Europe/Berlin
BEGIN:DAYLIGHT
TZOFFSETFROM:+0100
TZOFFSETTO:+0200
TZNAME:CEST
DTSTART:20250330T010000
END:DAYLIGHT
BEGIN:STANDARD
TZOFFSETFROM:+0200
TZOFFSETTO:+0100
TZNAME:CET
DTSTART:20251026T010000
END:STANDARD
END:VTIMEZONE
BEGIN:VEVENT
DTSTART;TZID=Europe/Berlin:20250322T100000
DTEND;TZID=Europe/Berlin:20250322T130000
DTSTAMP:20260421T135333
CREATED:20250310T161804Z
LAST-MODIFIED:20250312T111637Z
UID:21641-1742637600-1742648400@fairnetzt-loerrach.de
SUMMARY:Brunch international
DESCRIPTION:Brunchen im Café Kirche und dabei Neues kennenlernen und Gutes tun. \nIm Rahmen der Internationalen Wochen gegen den Rassismus laden verschiedene Religionsgemeinschaften und Vereine zu einen internationalen Brunch ins Café Kirche ein. Von Fingerfood aus Pakistan\, über Köstlichkeiten aus Korea\, dem Iran und Deutschland bis hin zu akfrikanischen Essen und belgischen Waffeln gibt es allerlei landestypische Leckereien. \nDer Teller kostet 10 Euro. \nWir spenden unseren Gewinn an diesem Tag dem Café Kola der Drogen- und Jugendberatungsstelle · Arbeitskreis Rauschmittel e. V. in Lörrach. Sie stellen Mahlzeiten für Drogenabhängige für 1 Euro zur Verfügung. Wir unterstützen mit unserem Büffet-Einnahmen die Versorgung von Menschen\, die unterversorgt sind. \nWir freuen uns auf Euren Besuch. Eine Anmeldung ist nicht erforderlich\, einfach vorbei kommen.
URL:https://fairnetzt-loerrach.de/veranstaltung/brunch-international/
LOCATION:Memory Risto-Bar-Pizzeria\, Herrenstr. 3\, Lörrach\, 79539
CATEGORIES:Café Kirche
ATTACH;FMTTYPE=image/png:https://fairnetzt-loerrach.de/wp-content/uploads/2025/03/brunch-international.png
END:VEVENT
END:VCALENDAR