BEGIN:VCALENDAR
VERSION:2.0
PRODID:-//fairNETZt - ECPv6.12.0//NONSGML v1.0//EN
CALSCALE:GREGORIAN
METHOD:PUBLISH
X-ORIGINAL-URL:https://fairnetzt-loerrach.de
X-WR-CALDESC:Veranstaltungen für fairNETZt
REFRESH-INTERVAL;VALUE=DURATION:PT1H
X-Robots-Tag:noindex
X-PUBLISHED-TTL:PT1H
BEGIN:VTIMEZONE
TZID:Europe/Berlin
BEGIN:DAYLIGHT
TZOFFSETFROM:+0100
TZOFFSETTO:+0200
TZNAME:CEST
DTSTART:20250330T010000
END:DAYLIGHT
BEGIN:STANDARD
TZOFFSETFROM:+0200
TZOFFSETTO:+0100
TZNAME:CET
DTSTART:20251026T010000
END:STANDARD
END:VTIMEZONE
BEGIN:VEVENT
DTSTART;TZID=Europe/Berlin:20250315T123000
DTEND;TZID=Europe/Berlin:20250315T140000
DTSTAMP:20260422T064917
CREATED:20250215T195841Z
LAST-MODIFIED:20250217T151423Z
UID:21576-1742041800-1742047200@fairnetzt-loerrach.de
SUMMARY:Projekt: Radreise -  tour it yourself !
DESCRIPTION:Für alle Fahrradfreunde\, die sich schon immer mal auf den Weg machen wollten\, klimafreundlich mit dem Rad in den Urlaub zu fahren. \nWas braucht Ihr\, um mit dem Rad zu verreisen? Auf unserer Mini-Messe gibt es Infos und Tipps zu Planung\, Packliste\, Radwege\, Ziele\, Übernachtungsmöglichkeiten\, Apps\, Navigationsmöglichkeiten und andere technische Tipps. \nDie IG-Velo freut sich auf einen regen Erfahrungsaustausch mit alten Hasen und völligen Neulingen. \nCafé Kirche freut sich\, Euch mit Quiche\, Kaffee\, Kuchen und anderen Leckereien zu verwöhnen.
URL:https://fairnetzt-loerrach.de/veranstaltung/projekt-radreise-tour-it-yourself/
LOCATION:Café Kirche\, Alte Feuerwache\, Burghof 2\, Lörrach\, 79539
ATTACH;FMTTYPE=image/jpeg:https://fairnetzt-loerrach.de/wp-content/uploads/2025/02/adobestock-569937766.jpeg
END:VEVENT
BEGIN:VEVENT
DTSTART;TZID=Europe/Berlin:20250315T140000
DTEND;TZID=Europe/Berlin:20250315T173000
DTSTAMP:20260422T064917
CREATED:20250215T200113Z
LAST-MODIFIED:20250215T200218Z
UID:21584-1742047200-1742059800@fairnetzt-loerrach.de
SUMMARY:Gibt es den Klimawandel wirklich? Und falls ja\, warum?
DESCRIPTION:– Information über den Klimawandel: ein Workshop- \nDie Teilnehmer setzen Daten und Fakten aus den Berichten des Weltklimarates (IPCC) wie in einem Puzzle zu einem Bild des Klimawandels zusammen. Ihnen werden dabei die Ursachen und Folgen bewusst und sie entdecken Zusammenhänge\, an die sie bisher nicht gedacht haben.\nDer Workshop basiert auf wissenschaftlicher Grundlage\, ist aber trotzdem allgemeinverständlich\, spezielle Kenntnisse werden nicht vorausgesetzt. \nLEITUNG: Walter Erhardt\, Climate Fresk Deutschland e.V.\nTeilnahme kostenlos\, aber Spende für Raummiete erwünscht\nAnmeldung erforderlich\, bitte nutzen Sie diesen Link: https://t1p.de/KlimaworkshopBadBellingen25-3-15 \nDer Verein ist Teil einer weltweiten Bewegung\, deren Ziel es ist Kenntnis über den Klimawandel zu verbreiten: Bereits mehr als 2 Mio Teilnehmer am Klimapuzzle in 162 Ländern!
URL:https://fairnetzt-loerrach.de/veranstaltung/gibt-es-den-klimawandel-wirklich-und-falls-ja-warum-2/
LOCATION:Albert-Schweitzer-Haus\, Im Mittelgrund 3\, Bad Bellingen\, Germany
ATTACH;FMTTYPE=image/webp:https://fairnetzt-loerrach.de/wp-content/uploads/2025/02/klima-puzzle.webp
END:VEVENT
BEGIN:VEVENT
DTSTART;TZID=Europe/Berlin:20250315T150000
DTEND;TZID=Europe/Berlin:20250315T150000
DTSTAMP:20260422T064917
CREATED:20241109T094803Z
LAST-MODIFIED:20241109T094803Z
UID:21233-1742050800-1742050800@fairnetzt-loerrach.de
SUMMARY:Infoveranstaltung Solidarische Landwirtschaft 3Land
DESCRIPTION:Liebe Gemüseliebhaber*innen\nWir laden Euch herzlich zur nächsten Infoveranstaltung der Solawi 3Land in der Gärtnerei Berg ein. \nSamstag\, 15. März 2025\, 15 Uhr\nHier informieren wir darüber\, was hinter dem Begriff Solidarische Landwirtschaft oder kurz „Solawi“ steckt und stellen unsere Solawi vor. Bei einer Führung durch die Gärtnerei habt ihr die Möglichkeit\, euch vor Ort ein Bild von der Solawi zu machen und andere Mitglieder zu treffen. Außerdem berichten wir von unseren Gemeinschafts-Events wie dem Fermentier-Workshop und dem Brotbacktag. \n  \nDie Infoveranstaltung findet in der Gärtnerei Berg\, Niederfeld 1 in Binzen statt. Wir freuen uns über Eure Anmeldung mit einer kurzen Mail an info@solawi3land.de. \n  \nEuer Solawi 3Land Kernteam \nwww.solawi3land.de \n 
URL:https://fairnetzt-loerrach.de/veranstaltung/solawi-3land-infoveranstaltung2025_03_15/
LOCATION:Gärtnerei Berg\, Niederfeld 1\, Binzen\, Deutschland
CATEGORIES:Solawi 3Land
ATTACH;FMTTYPE=image/png:https://fairnetzt-loerrach.de/wp-content/uploads/2022/11/logo-solawi-rund.png
END:VEVENT
END:VCALENDAR