BEGIN:VCALENDAR
VERSION:2.0
PRODID:-//fairNETZt - ECPv6.12.0//NONSGML v1.0//EN
CALSCALE:GREGORIAN
METHOD:PUBLISH
X-ORIGINAL-URL:https://fairnetzt-loerrach.de
X-WR-CALDESC:Veranstaltungen für fairNETZt
REFRESH-INTERVAL;VALUE=DURATION:PT1H
X-Robots-Tag:noindex
X-PUBLISHED-TTL:PT1H
BEGIN:VTIMEZONE
TZID:Europe/Berlin
BEGIN:DAYLIGHT
TZOFFSETFROM:+0100
TZOFFSETTO:+0200
TZNAME:CEST
DTSTART:20250330T010000
END:DAYLIGHT
BEGIN:STANDARD
TZOFFSETFROM:+0200
TZOFFSETTO:+0100
TZNAME:CET
DTSTART:20251026T010000
END:STANDARD
END:VTIMEZONE
BEGIN:VEVENT
DTSTART;TZID=Europe/Berlin:20250306T200000
DTEND;TZID=Europe/Berlin:20250306T220000
DTSTAMP:20260421T132313
CREATED:20250124T113547Z
LAST-MODIFIED:20250124T113547Z
UID:21449-1741291200-1741298400@fairnetzt-loerrach.de
SUMMARY:Französische Filmreihe
DESCRIPTION:Francophile aufgepasst! Du schaust französische Filme lieber in Original? Wir auch!! Wir freuen uns\, die neue französische Filmreihe in OmU ankündigen zu dürfen: jeder erste Donnerstag im Monat im Free Cinema um 20 Uhr für 5 €. A bientôt!\n\nDiesen Monat: Annie Ernaux – die super-8 Jahre\n\n\n\n\n\n\n\n\n\n\n\n\n\n\n\n\nFSK 0 / 62 Min / Eintritt: 5 € nur an der AK \n\n\n\n\n\n\n\n\n\n\n1972 kaufen sich die französische Schriftstellerin Annie Ernaux und ihr Ehemann Philippe eine Super-8-Kamera\, die während 9 Jahren ihr Leben aufzeichnen wird. Nicht nur Szenen einer jungen Familie\, sondern auch Reisen an politisch außergewöhnliche Orte wie Chile werden dokumentiert. LES ANNÉES SUPER 8 ist das feministische Dokument einer jungen Frau\, die anfangs von der Kamera beim verschämten Schreiben ertappt wird\, weil sie als Mutter und Lehrerin andere Pflichten habe. Aber 1983 gelingt ihr mit dem 4. Buch „Der Platz“ der internationale Durchbruch. 2022 wurde Ernaux mit dem Literaturnobelpreis ausgezeichnet. In ihrem ersten Film zeigt sie mit ihrem Sohn David den „avant-text“\, den Vor-Text ihres Schreibens\, und spricht dabei zu den Bildern in einer berührenden Weise. Quinzaine des Réalisateurs Cannes 2022!
URL:https://fairnetzt-loerrach.de/veranstaltung/franzoesische-filmreihe-2-2/
LOCATION:free cinema\, Tumringer Strasse 248\, Lörrach\, 79539
ATTACH;FMTTYPE=image/jpeg:https://fairnetzt-loerrach.de/wp-content/uploads/2025/01/annie-ernaux-mit-fotografen-1984-2ffsbjfxzefe.jpg
ORGANIZER;CN="free cinema":MAILTO:info@freecinema.de
END:VEVENT
END:VCALENDAR